{"text_format":"1","workbook":"xlsx","n_sheets":6,"sheets":["Plan de Trading","Calculateur Taille de Position","Journal de Trading Journalier","Ratio Gain Perte","Journal de Trading Long Terme","rentabilite"],"not_rendered":{"charts":3,"images":0,"macros":1,"external_links":2,"defined_names":17,"comments":1,"pivot_tables":0},"unopened":[],"bounds":{"document_bytes":16777216,"sheet_cells":100000,"rows_first":2000,"rows_last":500,"rows_between":2000,"halvings":0,"cell_chars":16384,"cell_head_chars":4096},"cells_cut":0,"cells_raw":0,"read":"whole","date_system":"1900"}

{"sheet":"Plan de Trading","index":0,"n_rows":38,"n_cols":3,"rows_kept":38,"cut":false,"hidden":false,"merged":[]}
[]
[null,null,"PLAN DE TRADING METHODE SCALPING"]
[]
[null,null,"À FAIRE AVANT CHAQUE SESSION"]
[null,null,"1. Repérer les supports et les résistances en H4"]
[null,null,"2. Tracer les institutionnelles en M30"]
[null,null,"3. Ouvrir le Web Analyzer avec les signaux M5 et M15"]
[null,null,"4. Vérifier la présence de nouvelles économiques ou non"]
[]
[null,null,"Paramètres :"]
[null,null,"Quel indicateur technique  : FDL MA - Pivots "]
[null,null,"Heure début de journée trading : 10h ( on ne trade pas avant pour laisser les faux mouvements de Londres )"]
[null,null,"Heure fin journée de trading : Dépend du temps que vous voulez rester sur les écrans"]
[null,null,"Unité de temps  : M15 - M30 - H4"]
[null,null,"Paires à regarder de préférence : EURUSD - GBPJPY - GBPUSD - USDCHF - USDCAD"]
[]
[null,null,"Ouverture d'un trade :"]
[null,null,"Achat si :\n✅ Cassure d'un dernier plus haut en M15 et M30\n✅ Prix dans zone du fibonacci M15 (ou à 2 pips près du 0,62 )\n✅ Prix en confluence avec le fibonacci M30\n✅ Moyennes mobile à l'achat en M15 \n✅ Moyennes mobile à l'achat en M30\n✅  Pas de rejection de prix sur résistance en H4"]
[null,null,"Vente si :\n✅ Cassure d'un dernier plus bas en M15 et M30\n✅ Prix dans zone du fibonacci M15 (ou à 2 pips près du 0,62)\n✅ Prix en confluence avec le fibonacci M30 \n✅ Moyennes mobile à la vente en M15\n✅ Moyennes mobile à la vente en M30\n✅Pas de rejection de prix sur support en H4"]
[]
[null,null,"Sens du trade :"]
[null,null,"Nous tradons toujours en tendance M15 et M30. Le H4 est optionnel."]
[]
[null,null,"Taille de position :"]
[null,null,"Utiliser le calculateur de position. Soit on ouvre 3 positions (on divise la taille de lot initial ) "]
[null,null,"Soit une seul position avec des multiples clotures partielles"]
[null,null,"Stop Loss :"]
[null,null," 10 pips"]
[]
[null,null,"TP : "]
[null,null,"BE au 0,382 - Cloture partielle pour ceux qui aiment l'hyperscalp ( trade de moins de 10 pips )"]
[null,null,"TP1 : 10 PIPS"]
[null,null,"TP 2 : Niveau fibo"]
[null,null,"TP 3 : Niveau fibo ou EMA200( tide shift pattern ) ou MPO"]
[]
[null,null,"ARRÊT DE LA SESSION DE TRADING si :"]
[null,null,"2 trades gagnants ou 2 perdants"]
[null,null,"Objectif : 2% du capital pour les débutants - 10% du capital pour les expérimentés"]

{"sheet":"Calculateur Taille de Position","index":1,"n_rows":11,"n_cols":5,"rows_kept":11,"cut":false,"hidden":false,"merged":[[0,0,0,4]]}
["Calculez combien de lots vous pouvez trader selon un SL défini ( 10 pips )"]
["Capital","% Risque","Paire à trader\n(cliquez pour changer)","StopLoss (pips)","Nb max de Lots"]
[500,3,"XXX/CHF",10,{"$f":"IF(C3=\"XXX/USD\",(A3*B3/100)/D3/B5,IF(C3=\"XXX/JPY\",(A3*B3/100)/D3/B6,IF(C3=\"XXX/CAD\",(A3*B3/100)/D3/B7,IF(C3=\"XXX/GBP\",(A3*B3/100)/D3/B8,IF(C3=\"XXX/CHF\",(A3*B3/100)/D3/B9,IF(C3=\"XXX/AUD\",(A3*B3/100)/D3/B10,IF(C3=\"XXX/NZD\",(A3*B3/100)/D3/B11)))))))","v":0.16538037486218302}]
["Paire","La valeur du pip"]
["XXX/USD",8.7799999999999994]
["XXX/JPY",8.18]
["XXX/CAD",6.63]
["XXX/GBP",12.71]
["XXX/CHF",9.07]
["XXX/AUD",6.56]
["XXX/NZD",6.05]

{"sheet":"Journal de Trading Journalier","index":2,"n_rows":3996,"n_cols":47,"rows_kept":3996,"cut":false,"hidden":false,"merged":[]}
["Trade ","Date du jour","Paire","Pips gagné","Pips perdu",null,"Total pips"," Nb de trade gagné","Nb de trade perdu","Ratio gain",null,"Ressenti psychologique ( fatigué, heureux, malade…)","Plan de trading respecté ?","Note externe",null,null,null,null,null,null,null,null,null,null,null,null,null,null,null,null,null,null,null,null,null,null,null,null,null,null,null,null,null,null,null,{"$f":"(1-J2)/J2","v":0.33333333333333331},"<DO NOT DELETE"]
[null,null,null,null,null,null,{"$f":"SUM(D3:D3995)-SUM(E3:E3995)","v":43},{"$f":"COUNT(D1:D96)","v":3},{"$f":"COUNT(E1:E96)","v":1},{"$f":"H2/(H2+I2)","v":0.75}]
[1,"2019-02-25","EUR/USD",10]
[3,"2019-02-25","USDJPY",23]
[4,"2019-02-25","EUR/USD",20,10]
[5]
[6]
[7]
[8]
[9]
[10]
[11]
[12]
[13]
[14]
[15]
[16]
[17]
[18]
[22]
[23]
[24]
[25]
[26]
[27]
[28]
[29]
[30]
[31]
[32]
[33]
[34]
[35]
[36]
[37]
[38]
[39]
[40]
[41]
[42]
[43]
[44]
[45]
[46]
[47]
[48]
[49]
[50]
[51]
[52]
[53]
[54]
[55]
[56]
[57]
[58]
[59]
[60]
[61]
[62]
[63]
[64]
[65]
[66]
[67]
[68]
[69]
[70]
[71]
[72]
[73]
[74]
[75]
[76]
[77]
[78]
[79]
[80]
[81]
[82]
[83]
[84]
[85]
[86]
[87]
[88]
[89]
[90]
[91]
[92]
[93]
[94]
[95]
[96]
[97]
[98]
[99]
[100]
[101]
[102]
[103]
[104]
[105]
[106]
[107]
[108]
[109]
[110]
[111]
[112]
[113]
[114]
[115]
[116]
[117]
[118]
[119]
[120]
[121]
[122]
[123]
[124]
[125]
[126]
[127]
[128]
[129]
[130]
[131]
[132]
[133]
[134]
[135]
[136]
[137]
[138]
[139]
[140]
[141]
[142]
[143]
[144]
[145]
[146]
[147]
[148]
[149]
[150]
[151]
[152]
[153]
[154]
[155]
[156]
[157]
[158]
[159]
[160]
[161]
[162]
[163]
[164]
[165]
[166]
[167]
[168]
[169]
[170]
[171]
[172]
[173]
[174]
[175]
[176]
[177]
[178]
[179]
[180]
[181]
[182]
[183]
[184]
[185]
[186]
[187]
[188]
[189]
[190]
[191]
[192]
[193]
[194]
[195]
[196]
[197]
[198]
[199]
[200]
[201]
[202]
[203]
[204]
[205]
[206]
[207]
[208]
[209]
[210]
[211]
[212]
[213]
[214]
[215]
[216]
[217]
[218]
[219]
[220]
[221]
[222]
[223]
[224]
[225]
[226]
[227]
[228]
[229]
[230]
[231]
[232]
[233]
[234]
[235]
[236]
[237]
[238]
[239]
[240]
[241]
[242]
[243]
[244]
[245]
[246]
[247]
[248]
[249]
[250]
[251]
[252]
[253]
[254]
[255]
[256]
[257]
[258]
[259]
[260]
[261]
[262]
[263]
[264]
[265]
[266]
[267]
[268]
[269]
[270]
[271]
[272]
[273]
[274]
[275]
[276]
[277]
[278]
[279]
[280]
[281]
[282]
[283]
[284]
[285]
[286]
[287]
[288]
[289]
[290]
[291]
[292]
[293]
[294]
[295]
[296]
[297]
[298]
[299]
[300]
[301]
[302]
[303]
[304]
[305]
[306]
[307]
[308]
[309]
[310]
[311]
[312]
[313]
[314]
[315]
[316]
[317]
[318]
[319]
[320]
[321]
[322]
[323]
[324]
[325]
[326]
[327]
[328]
[329]
[330]
[331]
[332]
[333]
[334]
[335]
[336]
[337]
[338]
[339]
[340]
[341]
[342]
[343]
[344]
[345]
[346]
[347]
[348]
[349]
[350]
[351]
[352]
[353]
[354]
[355]
[356]
[357]
[358]
[359]
[360]
[361]
[362]
[363]
[364]
[365]
[366]
[367]
[368]
[369]
[370]
[371]
[372]
[373]
[374]
[375]
[376]
[377]
[378]
[379]
[380]
[381]
[382]
[383]
[384]
[385]
[386]
[387]
[388]
[389]
[390]
[391]
[392]
[393]
[394]
[395]
[396]
[397]
[398]
[399]
[400]
[401]
[402]
[403]
[404]
[405]
[406]
[407]
[408]
[409]
[410]
[411]
[412]
[413]
[414]
[415]
[416]
[417]
[418]
[419]
[420]
[421]
[422]
[423]
[424]
[425]
[426]
[427]
[428]
[429]
[430]
[431]
[432]
[433]
[434]
[435]
[436]
[437]
[438]
[439]
[440]
[441]
[442]
[443]
[444]
[445]
[446]
[447]
[448]
[449]
[450]
[451]
[452]
[453]
[454]
[455]
[456]
[457]
[458]
[459]
[460]
[461]
[462]
[463]
[464]
[465]
[466]
[467]
[468]
[469]
[470]
[471]
[472]
[473]
[474]
[475]
[476]
[477]
[478]
[479]
[480]
[481]
[482]
[483]
[484]
[485]
[486]
[487]
[488]
[489]
[490]
[491]
[492]
[493]
[494]
[495]
[496]
[497]
[498]
[499]
[500]
[501]
[502]
[503]
[504]
[505]
[506]
[507]
[508]
[509]
[510]
[511]
[512]
[513]
[514]
[515]
[516]
[517]
[518]
[519]
[520]
[521]
[522]
[523]
[524]
[525]
[526]
[527]
[528]
[529]
[530]
[531]
[532]
[533]
[534]
[535]
[536]
[537]
[538]
[539]
[540]
[541]
[542]
[543]
[544]
[545]
[546]
[547]
[548]
[549]
[550]
[551]
[552]
[553]
[554]
[555]
[556]
[557]
[558]
[559]
[560]
[561]
[562]
[563]
[564]
[565]
[566]
[567]
[568]
[569]
[570]
[571]
[572]
[573]
[574]
[575]
[576]
[577]
[578]
[579]
[580]
[581]
[582]
[583]
[584]
[585]
[586]
[587]
[588]
[589]
[590]
[591]
[592]
[593]
[594]
[595]
[596]
[597]
[598]
[599]
[600]
[601]
[602]
[603]
[604]
[605]
[606]
[607]
[608]
[609]
[610]
[611]
[612]
[613]
[614]
[615]
[616]
[617]
[618]
[619]
[620]
[621]
[622]
[623]
[624]
[625]
[626]
[627]
[628]
[629]
[630]
[631]
[632]
[633]
[634]
[635]
[636]
[637]
[638]
[639]
[640]
[641]
[642]
[643]
[644]
[645]
[646]
[647]
[648]
[649]
[650]
[651]
[652]
[653]
[654]
[655]
[656]
[657]
[658]
[659]
[660]
[661]
[662]
[663]
[664]
[665]
[666]
[667]
[668]
[669]
[670]
[671]
[672]
[673]
[674]
[675]
[676]
[677]
[678]
[679]
[680]
[681]
[682]
[683]
[684]
[685]
[686]
[687]
[688]
[689]
[690]
[691]
[692]
[693]
[694]
[695]
[696]
[697]
[698]
[699]
[700]
[701]
[702]
[703]
[704]
[705]
[706]
[707]
[708]
[709]
[710]
[711]
[712]
[713]
[714]
[715]
[716]
[717]
[718]
[719]
[720]
[721]
[722]
[723]
[724]
[725]
[726]
[727]
[728]
[729]
[730]
[731]
[732]
[733]
[734]
[735]
[736]
[737]
[738]
[739]
[740]
[741]
[742]
[743]
[744]
[745]
[746]
[747]
[748]
[749]
[750]
[751]
[752]
[753]
[754]
[755]
[756]
[757]
[758]
[759]
[760]
[761]
[762]
[763]
[764]
[765]
[766]
[767]
[768]
[769]
[770]
[771]
[772]
[773]
[774]
[775]
[776]
[777]
[778]
[779]
[780]
[781]
[782]
[783]
[784]
[785]
[786]
[787]
[788]
[789]
[790]
[791]
[792]
[793]
[794]
[795]
[796]
[797]
[798]
[799]
[800]
[801]
[802]
[803]
[804]
[805]
[806]
[807]
[808]
[809]
[810]
[811]
[812]
[813]
[814]
[815]
[816]
[817]
[818]
[819]
[820]
[821]
[822]
[823]
[824]
[825]
[826]
[827]
[828]
[829]
[830]
[831]
[832]
[833]
[834]
[835]
[836]
[837]
[838]
[839]
[840]
[841]
[842]
[843]
[844]
[845]
[846]
[847]
[848]
[849]
[850]
[851]
[852]
[853]
[854]
[855]
[856]
[857]
[858]
[859]
[860]
[861]
[862]
[863]
[864]
[865]
[866]
[867]
[868]
[869]
[870]
[871]
[872]
[873]
[874]
[875]
[876]
[877]
[878]
[879]
[880]
[881]
[882]
[883]
[884]
[885]
[886]
[887]
[888]
[889]
[890]
[891]
[892]
[893]
[894]
[895]
[896]
[897]
[898]
[899]
[900]
[901]
[902]
[903]
[904]
[905]
[906]
[907]
[908]
[909]
[910]
[911]
[912]
[913]
[914]
[915]
[916]
[917]
[918]
[919]
[920]
[921]
[922]
[923]
[924]
[925]
[926]
[927]
[928]
[929]
[930]
[931]
[932]
[933]
[934]
[935]
[936]
[937]
[938]
[939]
[940]
[941]
[942]
[943]
[944]
[945]
[946]
[947]
[948]
[949]
[950]
[951]
[952]
[953]
[954]
[955]
[956]
[957]
[958]
[959]
[960]
[961]
[962]
[963]
[964]
[965]
[966]
[967]
[968]
[969]
[970]
[971]
[972]
[973]
[974]
[975]
[976]
[977]
[978]
[979]
[980]
[981]
[982]
[983]
[984]
[985]
[986]
[987]
[988]
[989]
[990]
[991]
[992]
[993]
[994]
[995]
[996]
[997]
[998]
[999]
[1000]
[1001]
[1002]
[1003]
[1004]
[1005]
[1006]
[1007]
[1008]
[1009]
[1010]
[1011]
[1012]
[1013]
[1014]
[1015]
[1016]
[1017]
[1018]
[1019]
[1020]
[1021]
[1022]
[1023]
[1024]
[1025]
[1026]
[1027]
[1028]
[1029]
[1030]
[1031]
[1032]
[1033]
[1034]
[1035]
[1036]
[1037]
[1038]
[1039]
[1040]
[1041]
[1042]
[1043]
[1044]
[1045]
[1046]
[1047]
[1048]
[1049]
[1050]
[1051]
[1052]
[1053]
[1054]
[1055]
[1056]
[1057]
[1058]
[1059]
[1060]
[1061]
[1062]
[1063]
[1064]
[1065]
[1066]
[1067]
[1068]
[1069]
[1070]
[1071]
[1072]
[1073]
[1074]
[1075]
[1076]
[1077]
[1078]
[1079]
[1080]
[1081]
[1082]
[1083]
[1084]
[1085]
[1086]
[1087]
[1088]
[1089]
[1090]
[1091]
[1092]
[1093]
[1094]
[1095]
[1096]
[1097]
[1098]
[1099]
[1100]
[1101]
[1102]
[1103]
[1104]
[1105]
[1106]
[1107]
[1108]
[1109]
[1110]
[1111]
[1112]
[1113]
[1114]
[1115]
[1116]
[1117]
[1118]
[1119]
[1120]
[1121]
[1122]
[1123]
[1124]
[1125]
[1126]
[1127]
[1128]
[1129]
[1130]
[1131]
[1132]
[1133]
[1134]
[1135]
[1136]
[1137]
[1138]
[1139]
[1140]
[1141]
[1142]
[1143]
[1144]
[1145]
[1146]
[1147]
[1148]
[1149]
[1150]
[1151]
[1152]
[1153]
[1154]
[1155]
[1156]
[1157]
[1158]
[1159]
[1160]
[1161]
[1162]
[1163]
[1164]
[1165]
[1166]
[1167]
[1168]
[1169]
[1170]
[1171]
[1172]
[1173]
[1174]
[1175]
[1176]
[1177]
[1178]
[1179]
[1180]
[1181]
[1182]
[1183]
[1184]
[1185]
[1186]
[1187]
[1188]
[1189]
[1190]
[1191]
[1192]
[1193]
[1194]
[1195]
[1196]
[1197]
[1198]
[1199]
[1200]
[1201]
[1202]
[1203]
[1204]
[1205]
[1206]
[1207]
[1208]
[1209]
[1210]
[1211]
[1212]
[1213]
[1214]
[1215]
[1216]
[1217]
[1218]
[1219]
[1220]
[1221]
[1222]
[1223]
[1224]
[1225]
[1226]
[1227]
[1228]
[1229]
[1230]
[1231]
[1232]
[1233]
[1234]
[1235]
[1236]
[1237]
[1238]
[1239]
[1240]
[1241]
[1242]
[1243]
[1244]
[1245]
[1246]
[1247]
[1248]
[1249]
[1250]
[1251]
[1252]
[1253]
[1254]
[1255]
[1256]
[1257]
[1258]
[1259]
[1260]
[1261]
[1262]
[1263]
[1264]
[1265]
[1266]
[1267]
[1268]
[1269]
[1270]
[1271]
[1272]
[1273]
[1274]
[1275]
[1276]
[1277]
[1278]
[1279]
[1280]
[1281]
[1282]
[1283]
[1284]
[1285]
[1286]
[1287]
[1288]
[1289]
[1290]
[1291]
[1292]
[1293]
[1294]
[1295]
[1296]
[1297]
[1298]
[1299]
[1300]
[1301]
[1302]
[1303]
[1304]
[1305]
[1306]
[1307]
[1308]
[1309]
[1310]
[1311]
[1312]
[1313]
[1314]
[1315]
[1316]
[1317]
[1318]
[1319]
[1320]
[1321]
[1322]
[1323]
[1324]
[1325]
[1326]
[1327]
[1328]
[1329]
[1330]
[1331]
[1332]
[1333]
[1334]
[1335]
[1336]
[1337]
[1338]
[1339]
[1340]
[1341]
[1342]
[1343]
[1344]
[1345]
[1346]
[1347]
[1348]
[1349]
[1350]
[1351]
[1352]
[1353]
[1354]
[1355]
[1356]
[1357]
[1358]
[1359]
[1360]
[1361]
[1362]
[1363]
[1364]
[1365]
[1366]
[1367]
[1368]
[1369]
[1370]
[1371]
[1372]
[1373]
[1374]
[1375]
[1376]
[1377]
[1378]
[1379]
[1380]
[1381]
[1382]
[1383]
[1384]
[1385]
[1386]
[1387]
[1388]
[1389]
[1390]
[1391]
[1392]
[1393]
[1394]
[1395]
[1396]
[1397]
[1398]
[1399]
[1400]
[1401]
[1402]
[1403]
[1404]
[1405]
[1406]
[1407]
[1408]
[1409]
[1410]
[1411]
[1412]
[1413]
[1414]
[1415]
[1416]
[1417]
[1418]
[1419]
[1420]
[1421]
[1422]
[1423]
[1424]
[1425]
[1426]
[1427]
[1428]
[1429]
[1430]
[1431]
[1432]
[1433]
[1434]
[1435]
[1436]
[1437]
[1438]
[1439]
[1440]
[1441]
[1442]
[1443]
[1444]
[1445]
[1446]
[1447]
[1448]
[1449]
[1450]
[1451]
[1452]
[1453]
[1454]
[1455]
[1456]
[1457]
[1458]
[1459]
[1460]
[1461]
[1462]
[1463]
[1464]
[1465]
[1466]
[1467]
[1468]
[1469]
[1470]
[1471]
[1472]
[1473]
[1474]
[1475]
[1476]
[1477]
[1478]
[1479]
[1480]
[1481]
[1482]
[1483]
[1484]
[1485]
[1486]
[1487]
[1488]
[1489]
[1490]
[1491]
[1492]
[1493]
[1494]
[1495]
[1496]
[1497]
[1498]
[1499]
[1500]
[1501]
[1502]
[1503]
[1504]
[1505]
[1506]
[1507]
[1508]
[1509]
[1510]
[1511]
[1512]
[1513]
[1514]
[1515]
[1516]
[1517]
[1518]
[1519]
[1520]
[1521]
[1522]
[1523]
[1524]
[1525]
[1526]
[1527]
[1528]
[1529]
[1530]
[1531]
[1532]
[1533]
[1534]
[1535]
[1536]
[1537]
[1538]
[1539]
[1540]
[1541]
[1542]
[1543]
[1544]
[1545]
[1546]
[1547]
[1548]
[1549]
[1550]
[1551]
[1552]
[1553]
[1554]
[1555]
[1556]
[1557]
[1558]
[1559]
[1560]
[1561]
[1562]
[1563]
[1564]
[1565]
[1566]
[1567]
[1568]
[1569]
[1570]
[1571]
[1572]
[1573]
[1574]
[1575]
[1576]
[1577]
[1578]
[1579]
[1580]
[1581]
[1582]
[1583]
[1584]
[1585]
[1586]
[1587]
[1588]
[1589]
[1590]
[1591]
[1592]
[1593]
[1594]
[1595]
[1596]
[1597]
[1598]
[1599]
[1600]
[1601]
[1602]
[1603]
[1604]
[1605]
[1606]
[1607]
[1608]
[1609]
[1610]
[1611]
[1612]
[1613]
[1614]
[1615]
[1616]
[1617]
[1618]
[1619]
[1620]
[1621]
[1622]
[1623]
[1624]
[1625]
[1626]
[1627]
[1628]
[1629]
[1630]
[1631]
[1632]
[1633]
[1634]
[1635]
[1636]
[1637]
[1638]
[1639]
[1640]
[1641]
[1642]
[1643]
[1644]
[1645]
[1646]
[1647]
[1648]
[1649]
[1650]
[1651]
[1652]
[1653]
[1654]
[1655]
[1656]
[1657]
[1658]
[1659]
[1660]
[1661]
[1662]
[1663]
[1664]
[1665]
[1666]
[1667]
[1668]
[1669]
[1670]
[1671]
[1672]
[1673]
[1674]
[1675]
[1676]
[1677]
[1678]
[1679]
[1680]
[1681]
[1682]
[1683]
[1684]
[1685]
[1686]
[1687]
[1688]
[1689]
[1690]
[1691]
[1692]
[1693]
[1694]
[1695]
[1696]
[1697]
[1698]
[1699]
[1700]
[1701]
[1702]
[1703]
[1704]
[1705]
[1706]
[1707]
[1708]
[1709]
[1710]
[1711]
[1712]
[1713]
[1714]
[1715]
[1716]
[1717]
[1718]
[1719]
[1720]
[1721]
[1722]
[1723]
[1724]
[1725]
[1726]
[1727]
[1728]
[1729]
[1730]
[1731]
[1732]
[1733]
[1734]
[1735]
[1736]
[1737]
[1738]
[1739]
[1740]
[1741]
[1742]
[1743]
[1744]
[1745]
[1746]
[1747]
[1748]
[1749]
[1750]
[1751]
[1752]
[1753]
[1754]
[1755]
[1756]
[1757]
[1758]
[1759]
[1760]
[1761]
[1762]
[1763]
[1764]
[1765]
[1766]
[1767]
[1768]
[1769]
[1770]
[1771]
[1772]
[1773]
[1774]
[1775]
[1776]
[1777]
[1778]
[1779]
[1780]
[1781]
[1782]
[1783]
[1784]
[1785]
[1786]
[1787]
[1788]
[1789]
[1790]
[1791]
[1792]
[1793]
[1794]
[1795]
[1796]
[1797]
[1798]
[1799]
[1800]
[1801]
[1802]
[1803]
[1804]
[1805]
[1806]
[1807]
[1808]
[1809]
[1810]
[1811]
[1812]
[1813]
[1814]
[1815]
[1816]
[1817]
[1818]
[1819]
[1820]
[1821]
[1822]
[1823]
[1824]
[1825]
[1826]
[1827]
[1828]
[1829]
[1830]
[1831]
[1832]
[1833]
[1834]
[1835]
[1836]
[1837]
[1838]
[1839]
[1840]
[1841]
[1842]
[1843]
[1844]
[1845]
[1846]
[1847]
[1848]
[1849]
[1850]
[1851]
[1852]
[1853]
[1854]
[1855]
[1856]
[1857]
[1858]
[1859]
[1860]
[1861]
[1862]
[1863]
[1864]
[1865]
[1866]
[1867]
[1868]
[1869]
[1870]
[1871]
[1872]
[1873]
[1874]
[1875]
[1876]
[1877]
[1878]
[1879]
[1880]
[1881]
[1882]
[1883]
[1884]
[1885]
[1886]
[1887]
[1888]
[1889]
[1890]
[1891]
[1892]
[1893]
[1894]
[1895]
[1896]
[1897]
[1898]
[1899]
[1900]
[1901]
[1902]
[1903]
[1904]
[1905]
[1906]
[1907]
[1908]
[1909]
[1910]
[1911]
[1912]
[1913]
[1914]
[1915]
[1916]
[1917]
[1918]
[1919]
[1920]
[1921]
[1922]
[1923]
[1924]
[1925]
[1926]
[1927]
[1928]
[1929]
[1930]
[1931]
[1932]
[1933]
[1934]
[1935]
[1936]
[1937]
[1938]
[1939]
[1940]
[1941]
[1942]
[1943]
[1944]
[1945]
[1946]
[1947]
[1948]
[1949]
[1950]
[1951]
[1952]
[1953]
[1954]
[1955]
[1956]
[1957]
[1958]
[1959]
[1960]
[1961]
[1962]
[1963]
[1964]
[1965]
[1966]
[1967]
[1968]
[1969]
[1970]
[1971]
[1972]
[1973]
[1974]
[1975]
[1976]
[1977]
[1978]
[1979]
[1980]
[1981]
[1982]
[1983]
[1984]
[1985]
[1986]
[1987]
[1988]
[1989]
[1990]
[1991]
[1992]
[1993]
[1994]
[1995]
[1996]
[1997]
[1998]
[1999]
[2000]
[2001]
[2002]
[2003]
[2004]
[2005]
[2006]
[2007]
[2008]
[2009]
[2010]
[2011]
[2012]
[2013]
[2014]
[2015]
[2016]
[2017]
[2018]
[2019]
[2020]
[2021]
[2022]
[2023]
[2024]
[2025]
[2026]
[2027]
[2028]
[2029]
[2030]
[2031]
[2032]
[2033]
[2034]
[2035]
[2036]
[2037]
[2038]
[2039]
[2040]
[2041]
[2042]
[2043]
[2044]
[2045]
[2046]
[2047]
[2048]
[2049]
[2050]
[2051]
[2052]
[2053]
[2054]
[2055]
[2056]
[2057]
[2058]
[2059]
[2060]
[2061]
[2062]
[2063]
[2064]
[2065]
[2066]
[2067]
[2068]
[2069]
[2070]
[2071]
[2072]
[2073]
[2074]
[2075]
[2076]
[2077]
[2078]
[2079]
[2080]
[2081]
[2082]
[2083]
[2084]
[2085]
[2086]
[2087]
[2088]
[2089]
[2090]
[2091]
[2092]
[2093]
[2094]
[2095]
[2096]
[2097]
[2098]
[2099]
[2100]
[2101]
[2102]
[2103]
[2104]
[2105]
[2106]
[2107]
[2108]
[2109]
[2110]
[2111]
[2112]
[2113]
[2114]
[2115]
[2116]
[2117]
[2118]
[2119]
[2120]
[2121]
[2122]
[2123]
[2124]
[2125]
[2126]
[2127]
[2128]
[2129]
[2130]
[2131]
[2132]
[2133]
[2134]
[2135]
[2136]
[2137]
[2138]
[2139]
[2140]
[2141]
[2142]
[2143]
[2144]
[2145]
[2146]
[2147]
[2148]
[2149]
[2150]
[2151]
[2152]
[2153]
[2154]
[2155]
[2156]
[2157]
[2158]
[2159]
[2160]
[2161]
[2162]
[2163]
[2164]
[2165]
[2166]
[2167]
[2168]
[2169]
[2170]
[2171]
[2172]
[2173]
[2174]
[2175]
[2176]
[2177]
[2178]
[2179]
[2180]
[2181]
[2182]
[2183]
[2184]
[2185]
[2186]
[2187]
[2188]
[2189]
[2190]
[2191]
[2192]
[2193]
[2194]
[2195]
[2196]
[2197]
[2198]
[2199]
[2200]
[2201]
[2202]
[2203]
[2204]
[2205]
[2206]
[2207]
[2208]
[2209]
[2210]
[2211]
[2212]
[2213]
[2214]
[2215]
[2216]
[2217]
[2218]
[2219]
[2220]
[2221]
[2222]
[2223]
[2224]
[2225]
[2226]
[2227]
[2228]
[2229]
[2230]
[2231]
[2232]
[2233]
[2234]
[2235]
[2236]
[2237]
[2238]
[2239]
[2240]
[2241]
[2242]
[2243]
[2244]
[2245]
[2246]
[2247]
[2248]
[2249]
[2250]
[2251]
[2252]
[2253]
[2254]
[2255]
[2256]
[2257]
[2258]
[2259]
[2260]
[2261]
[2262]
[2263]
[2264]
[2265]
[2266]
[2267]
[2268]
[2269]
[2270]
[2271]
[2272]
[2273]
[2274]
[2275]
[2276]
[2277]
[2278]
[2279]
[2280]
[2281]
[2282]
[2283]
[2284]
[2285]
[2286]
[2287]
[2288]
[2289]
[2290]
[2291]
[2292]
[2293]
[2294]
[2295]
[2296]
[2297]
[2298]
[2299]
[2300]
[2301]
[2302]
[2303]
[2304]
[2305]
[2306]
[2307]
[2308]
[2309]
[2310]
[2311]
[2312]
[2313]
[2314]
[2315]
[2316]
[2317]
[2318]
[2319]
[2320]
[2321]
[2322]
[2323]
[2324]
[2325]
[2326]
[2327]
[2328]
[2329]
[2330]
[2331]
[2332]
[2333]
[2334]
[2335]
[2336]
[2337]
[2338]
[2339]
[2340]
[2341]
[2342]
[2343]
[2344]
[2345]
[2346]
[2347]
[2348]
[2349]
[2350]
[2351]
[2352]
[2353]
[2354]
[2355]
[2356]
[2357]
[2358]
[2359]
[2360]
[2361]
[2362]
[2363]
[2364]
[2365]
[2366]
[2367]
[2368]
[2369]
[2370]
[2371]
[2372]
[2373]
[2374]
[2375]
[2376]
[2377]
[2378]
[2379]
[2380]
[2381]
[2382]
[2383]
[2384]
[2385]
[2386]
[2387]
[2388]
[2389]
[2390]
[2391]
[2392]
[2393]
[2394]
[2395]
[2396]
[2397]
[2398]
[2399]
[2400]
[2401]
[2402]
[2403]
[2404]
[2405]
[2406]
[2407]
[2408]
[2409]
[2410]
[2411]
[2412]
[2413]
[2414]
[2415]
[2416]
[2417]
[2418]
[2419]
[2420]
[2421]
[2422]
[2423]
[2424]
[2425]
[2426]
[2427]
[2428]
[2429]
[2430]
[2431]
[2432]
[2433]
[2434]
[2435]
[2436]
[2437]
[2438]
[2439]
[2440]
[2441]
[2442]
[2443]
[2444]
[2445]
[2446]
[2447]
[2448]
[2449]
[2450]
[2451]
[2452]
[2453]
[2454]
[2455]
[2456]
[2457]
[2458]
[2459]
[2460]
[2461]
[2462]
[2463]
[2464]
[2465]
[2466]
[2467]
[2468]
[2469]
[2470]
[2471]
[2472]
[2473]
[2474]
[2475]
[2476]
[2477]
[2478]
[2479]
[2480]
[2481]
[2482]
[2483]
[2484]
[2485]
[2486]
[2487]
[2488]
[2489]
[2490]
[2491]
[2492]
[2493]
[2494]
[2495]
[2496]
[2497]
[2498]
[2499]
[2500]
[2501]
[2502]
[2503]
[2504]
[2505]
[2506]
[2507]
[2508]
[2509]
[2510]
[2511]
[2512]
[2513]
[2514]
[2515]
[2516]
[2517]
[2518]
[2519]
[2520]
[2521]
[2522]
[2523]
[2524]
[2525]
[2526]
[2527]
[2528]
[2529]
[2530]
[2531]
[2532]
[2533]
[2534]
[2535]
[2536]
[2537]
[2538]
[2539]
[2540]
[2541]
[2542]
[2543]
[2544]
[2545]
[2546]
[2547]
[2548]
[2549]
[2550]
[2551]
[2552]
[2553]
[2554]
[2555]
[2556]
[2557]
[2558]
[2559]
[2560]
[2561]
[2562]
[2563]
[2564]
[2565]
[2566]
[2567]
[2568]
[2569]
[2570]
[2571]
[2572]
[2573]
[2574]
[2575]
[2576]
[2577]
[2578]
[2579]
[2580]
[2581]
[2582]
[2583]
[2584]
[2585]
[2586]
[2587]
[2588]
[2589]
[2590]
[2591]
[2592]
[2593]
[2594]
[2595]
[2596]
[2597]
[2598]
[2599]
[2600]
[2601]
[2602]
[2603]
[2604]
[2605]
[2606]
[2607]
[2608]
[2609]
[2610]
[2611]
[2612]
[2613]
[2614]
[2615]
[2616]
[2617]
[2618]
[2619]
[2620]
[2621]
[2622]
[2623]
[2624]
[2625]
[2626]
[2627]
[2628]
[2629]
[2630]
[2631]
[2632]
[2633]
[2634]
[2635]
[2636]
[2637]
[2638]
[2639]
[2640]
[2641]
[2642]
[2643]
[2644]
[2645]
[2646]
[2647]
[2648]
[2649]
[2650]
[2651]
[2652]
[2653]
[2654]
[2655]
[2656]
[2657]
[2658]
[2659]
[2660]
[2661]
[2662]
[2663]
[2664]
[2665]
[2666]
[2667]
[2668]
[2669]
[2670]
[2671]
[2672]
[2673]
[2674]
[2675]
[2676]
[2677]
[2678]
[2679]
[2680]
[2681]
[2682]
[2683]
[2684]
[2685]
[2686]
[2687]
[2688]
[2689]
[2690]
[2691]
[2692]
[2693]
[2694]
[2695]
[2696]
[2697]
[2698]
[2699]
[2700]
[2701]
[2702]
[2703]
[2704]
[2705]
[2706]
[2707]
[2708]
[2709]
[2710]
[2711]
[2712]
[2713]
[2714]
[2715]
[2716]
[2717]
[2718]
[2719]
[2720]
[2721]
[2722]
[2723]
[2724]
[2725]
[2726]
[2727]
[2728]
[2729]
[2730]
[2731]
[2732]
[2733]
[2734]
[2735]
[2736]
[2737]
[2738]
[2739]
[2740]
[2741]
[2742]
[2743]
[2744]
[2745]
[2746]
[2747]
[2748]
[2749]
[2750]
[2751]
[2752]
[2753]
[2754]
[2755]
[2756]
[2757]
[2758]
[2759]
[2760]
[2761]
[2762]
[2763]
[2764]
[2765]
[2766]
[2767]
[2768]
[2769]
[2770]
[2771]
[2772]
[2773]
[2774]
[2775]
[2776]
[2777]
[2778]
[2779]
[2780]
[2781]
[2782]
[2783]
[2784]
[2785]
[2786]
[2787]
[2788]
[2789]
[2790]
[2791]
[2792]
[2793]
[2794]
[2795]
[2796]
[2797]
[2798]
[2799]
[2800]
[2801]
[2802]
[2803]
[2804]
[2805]
[2806]
[2807]
[2808]
[2809]
[2810]
[2811]
[2812]
[2813]
[2814]
[2815]
[2816]
[2817]
[2818]
[2819]
[2820]
[2821]
[2822]
[2823]
[2824]
[2825]
[2826]
[2827]
[2828]
[2829]
[2830]
[2831]
[2832]
[2833]
[2834]
[2835]
[2836]
[2837]
[2838]
[2839]
[2840]
[2841]
[2842]
[2843]
[2844]
[2845]
[2846]
[2847]
[2848]
[2849]
[2850]
[2851]
[2852]
[2853]
[2854]
[2855]
[2856]
[2857]
[2858]
[2859]
[2860]
[2861]
[2862]
[2863]
[2864]
[2865]
[2866]
[2867]
[2868]
[2869]
[2870]
[2871]
[2872]
[2873]
[2874]
[2875]
[2876]
[2877]
[2878]
[2879]
[2880]
[2881]
[2882]
[2883]
[2884]
[2885]
[2886]
[2887]
[2888]
[2889]
[2890]
[2891]
[2892]
[2893]
[2894]
[2895]
[2896]
[2897]
[2898]
[2899]
[2900]
[2901]
[2902]
[2903]
[2904]
[2905]
[2906]
[2907]
[2908]
[2909]
[2910]
[2911]
[2912]
[2913]
[2914]
[2915]
[2916]
[2917]
[2918]
[2919]
[2920]
[2921]
[2922]
[2923]
[2924]
[2925]
[2926]
[2927]
[2928]
[2929]
[2930]
[2931]
[2932]
[2933]
[2934]
[2935]
[2936]
[2937]
[2938]
[2939]
[2940]
[2941]
[2942]
[2943]
[2944]
[2945]
[2946]
[2947]
[2948]
[2949]
[2950]
[2951]
[2952]
[2953]
[2954]
[2955]
[2956]
[2957]
[2958]
[2959]
[2960]
[2961]
[2962]
[2963]
[2964]
[2965]
[2966]
[2967]
[2968]
[2969]
[2970]
[2971]
[2972]
[2973]
[2974]
[2975]
[2976]
[2977]
[2978]
[2979]
[2980]
[2981]
[2982]
[2983]
[2984]
[2985]
[2986]
[2987]
[2988]
[2989]
[2990]
[2991]
[2992]
[2993]
[2994]
[2995]
[2996]
[2997]
[2998]
[2999]
[3000]
[3001]
[3002]
[3003]
[3004]
[3005]
[3006]
[3007]
[3008]
[3009]
[3010]
[3011]
[3012]
[3013]
[3014]
[3015]
[3016]
[3017]
[3018]
[3019]
[3020]
[3021]
[3022]
[3023]
[3024]
[3025]
[3026]
[3027]
[3028]
[3029]
[3030]
[3031]
[3032]
[3033]
[3034]
[3035]
[3036]
[3037]
[3038]
[3039]
[3040]
[3041]
[3042]
[3043]
[3044]
[3045]
[3046]
[3047]
[3048]
[3049]
[3050]
[3051]
[3052]
[3053]
[3054]
[3055]
[3056]
[3057]
[3058]
[3059]
[3060]
[3061]
[3062]
[3063]
[3064]
[3065]
[3066]
[3067]
[3068]
[3069]
[3070]
[3071]
[3072]
[3073]
[3074]
[3075]
[3076]
[3077]
[3078]
[3079]
[3080]
[3081]
[3082]
[3083]
[3084]
[3085]
[3086]
[3087]
[3088]
[3089]
[3090]
[3091]
[3092]
[3093]
[3094]
[3095]
[3096]
[3097]
[3098]
[3099]
[3100]
[3101]
[3102]
[3103]
[3104]
[3105]
[3106]
[3107]
[3108]
[3109]
[3110]
[3111]
[3112]
[3113]
[3114]
[3115]
[3116]
[3117]
[3118]
[3119]
[3120]
[3121]
[3122]
[3123]
[3124]
[3125]
[3126]
[3127]
[3128]
[3129]
[3130]
[3131]
[3132]
[3133]
[3134]
[3135]
[3136]
[3137]
[3138]
[3139]
[3140]
[3141]
[3142]
[3143]
[3144]
[3145]
[3146]
[3147]
[3148]
[3149]
[3150]
[3151]
[3152]
[3153]
[3154]
[3155]
[3156]
[3157]
[3158]
[3159]
[3160]
[3161]
[3162]
[3163]
[3164]
[3165]
[3166]
[3167]
[3168]
[3169]
[3170]
[3171]
[3172]
[3173]
[3174]
[3175]
[3176]
[3177]
[3178]
[3179]
[3180]
[3181]
[3182]
[3183]
[3184]
[3185]
[3186]
[3187]
[3188]
[3189]
[3190]
[3191]
[3192]
[3193]
[3194]
[3195]
[3196]
[3197]
[3198]
[3199]
[3200]
[3201]
[3202]
[3203]
[3204]
[3205]
[3206]
[3207]
[3208]
[3209]
[3210]
[3211]
[3212]
[3213]
[3214]
[3215]
[3216]
[3217]
[3218]
[3219]
[3220]
[3221]
[3222]
[3223]
[3224]
[3225]
[3226]
[3227]
[3228]
[3229]
[3230]
[3231]
[3232]
[3233]
[3234]
[3235]
[3236]
[3237]
[3238]
[3239]
[3240]
[3241]
[3242]
[3243]
[3244]
[3245]
[3246]
[3247]
[3248]
[3249]
[3250]
[3251]
[3252]
[3253]
[3254]
[3255]
[3256]
[3257]
[3258]
[3259]
[3260]
[3261]
[3262]
[3263]
[3264]
[3265]
[3266]
[3267]
[3268]
[3269]
[3270]
[3271]
[3272]
[3273]
[3274]
[3275]
[3276]
[3277]
[3278]
[3279]
[3280]
[3281]
[3282]
[3283]
[3284]
[3285]
[3286]
[3287]
[3288]
[3289]
[3290]
[3291]
[3292]
[3293]
[3294]
[3295]
[3296]
[3297]
[3298]
[3299]
[3300]
[3301]
[3302]
[3303]
[3304]
[3305]
[3306]
[3307]
[3308]
[3309]
[3310]
[3311]
[3312]
[3313]
[3314]
[3315]
[3316]
[3317]
[3318]
[3319]
[3320]
[3321]
[3322]
[3323]
[3324]
[3325]
[3326]
[3327]
[3328]
[3329]
[3330]
[3331]
[3332]
[3333]
[3334]
[3335]
[3336]
[3337]
[3338]
[3339]
[3340]
[3341]
[3342]
[3343]
[3344]
[3345]
[3346]
[3347]
[3348]
[3349]
[3350]
[3351]
[3352]
[3353]
[3354]
[3355]
[3356]
[3357]
[3358]
[3359]
[3360]
[3361]
[3362]
[3363]
[3364]
[3365]
[3366]
[3367]
[3368]
[3369]
[3370]
[3371]
[3372]
[3373]
[3374]
[3375]
[3376]
[3377]
[3378]
[3379]
[3380]
[3381]
[3382]
[3383]
[3384]
[3385]
[3386]
[3387]
[3388]
[3389]
[3390]
[3391]
[3392]
[3393]
[3394]
[3395]
[3396]
[3397]
[3398]
[3399]
[3400]
[3401]
[3402]
[3403]
[3404]
[3405]
[3406]
[3407]
[3408]
[3409]
[3410]
[3411]
[3412]
[3413]
[3414]
[3415]
[3416]
[3417]
[3418]
[3419]
[3420]
[3421]
[3422]
[3423]
[3424]
[3425]
[3426]
[3427]
[3428]
[3429]
[3430]
[3431]
[3432]
[3433]
[3434]
[3435]
[3436]
[3437]
[3438]
[3439]
[3440]
[3441]
[3442]
[3443]
[3444]
[3445]
[3446]
[3447]
[3448]
[3449]
[3450]
[3451]
[3452]
[3453]
[3454]
[3455]
[3456]
[3457]
[3458]
[3459]
[3460]
[3461]
[3462]
[3463]
[3464]
[3465]
[3466]
[3467]
[3468]
[3469]
[3470]
[3471]
[3472]
[3473]
[3474]
[3475]
[3476]
[3477]
[3478]
[3479]
[3480]
[3481]
[3482]
[3483]
[3484]
[3485]
[3486]
[3487]
[3488]
[3489]
[3490]
[3491]
[3492]
[3493]
[3494]
[3495]
[3496]
[3497]
[3498]
[3499]
[3500]
[3501]
[3502]
[3503]
[3504]
[3505]
[3506]
[3507]
[3508]
[3509]
[3510]
[3511]
[3512]
[3513]
[3514]
[3515]
[3516]
[3517]
[3518]
[3519]
[3520]
[3521]
[3522]
[3523]
[3524]
[3525]
[3526]
[3527]
[3528]
[3529]
[3530]
[3531]
[3532]
[3533]
[3534]
[3535]
[3536]
[3537]
[3538]
[3539]
[3540]
[3541]
[3542]
[3543]
[3544]
[3545]
[3546]
[3547]
[3548]
[3549]
[3550]
[3551]
[3552]
[3553]
[3554]
[3555]
[3556]
[3557]
[3558]
[3559]
[3560]
[3561]
[3562]
[3563]
[3564]
[3565]
[3566]
[3567]
[3568]
[3569]
[3570]
[3571]
[3572]
[3573]
[3574]
[3575]
[3576]
[3577]
[3578]
[3579]
[3580]
[3581]
[3582]
[3583]
[3584]
[3585]
[3586]
[3587]
[3588]
[3589]
[3590]
[3591]
[3592]
[3593]
[3594]
[3595]
[3596]
[3597]
[3598]
[3599]
[3600]
[3601]
[3602]
[3603]
[3604]
[3605]
[3606]
[3607]
[3608]
[3609]
[3610]
[3611]
[3612]
[3613]
[3614]
[3615]
[3616]
[3617]
[3618]
[3619]
[3620]
[3621]
[3622]
[3623]
[3624]
[3625]
[3626]
[3627]
[3628]
[3629]
[3630]
[3631]
[3632]
[3633]
[3634]
[3635]
[3636]
[3637]
[3638]
[3639]
[3640]
[3641]
[3642]
[3643]
[3644]
[3645]
[3646]
[3647]
[3648]
[3649]
[3650]
[3651]
[3652]
[3653]
[3654]
[3655]
[3656]
[3657]
[3658]
[3659]
[3660]
[3661]
[3662]
[3663]
[3664]
[3665]
[3666]
[3667]
[3668]
[3669]
[3670]
[3671]
[3672]
[3673]
[3674]
[3675]
[3676]
[3677]
[3678]
[3679]
[3680]
[3681]
[3682]
[3683]
[3684]
[3685]
[3686]
[3687]
[3688]
[3689]
[3690]
[3691]
[3692]
[3693]
[3694]
[3695]
[3696]
[3697]
[3698]
[3699]
[3700]
[3701]
[3702]
[3703]
[3704]
[3705]
[3706]
[3707]
[3708]
[3709]
[3710]
[3711]
[3712]
[3713]
[3714]
[3715]
[3716]
[3717]
[3718]
[3719]
[3720]
[3721]
[3722]
[3723]
[3724]
[3725]
[3726]
[3727]
[3728]
[3729]
[3730]
[3731]
[3732]
[3733]
[3734]
[3735]
[3736]
[3737]
[3738]
[3739]
[3740]
[3741]
[3742]
[3743]
[3744]
[3745]
[3746]
[3747]
[3748]
[3749]
[3750]
[3751]
[3752]
[3753]
[3754]
[3755]
[3756]
[3757]
[3758]
[3759]
[3760]
[3761]
[3762]
[3763]
[3764]
[3765]
[3766]
[3767]
[3768]
[3769]
[3770]
[3771]
[3772]
[3773]
[3774]
[3775]
[3776]
[3777]
[3778]
[3779]
[3780]
[3781]
[3782]
[3783]
[3784]
[3785]
[3786]
[3787]
[3788]
[3789]
[3790]
[3791]
[3792]
[3793]
[3794]
[3795]
[3796]
[3797]
[3798]
[3799]
[3800]
[3801]
[3802]
[3803]
[3804]
[3805]
[3806]
[3807]
[3808]
[3809]
[3810]
[3811]
[3812]
[3813]
[3814]
[3815]
[3816]
[3817]
[3818]
[3819]
[3820]
[3821]
[3822]
[3823]
[3824]
[3825]
[3826]
[3827]
[3828]
[3829]
[3830]
[3831]
[3832]
[3833]
[3834]
[3835]
[3836]
[3837]
[3838]
[3839]
[3840]
[3841]
[3842]
[3843]
[3844]
[3845]
[3846]
[3847]
[3848]
[3849]
[3850]
[3851]
[3852]
[3853]
[3854]
[3855]
[3856]
[3857]
[3858]
[3859]
[3860]
[3861]
[3862]
[3863]
[3864]
[3865]
[3866]
[3867]
[3868]
[3869]
[3870]
[3871]
[3872]
[3873]
[3874]
[3875]
[3876]
[3877]
[3878]
[3879]
[3880]
[3881]
[3882]
[3883]
[3884]
[3885]
[3886]
[3887]
[3888]
[3889]
[3890]
[3891]
[3892]
[3893]
[3894]
[3895]
[3896]
[3897]
[3898]
[3899]
[3900]
[3901]
[3902]
[3903]
[3904]
[3905]
[3906]
[3907]
[3908]
[3909]
[3910]
[3911]
[3912]
[3913]
[3914]
[3915]
[3916]
[3917]
[3918]
[3919]
[3920]
[3921]
[3922]
[3923]
[3924]
[3925]
[3926]
[3927]
[3928]
[3929]
[3930]
[3931]
[3932]
[3933]
[3934]
[3935]
[3936]
[3937]
[3938]
[3939]
[3940]
[3941]
[3942]
[3943]
[3944]
[3945]
[3946]
[3947]
[3948]
[3949]
[3950]
[3951]
[3952]
[3953]
[3954]
[3955]
[3956]
[3957]
[3958]
[3959]
[3960]
[3961]
[3962]
[3963]
[3964]
[3965]
[3966]
[3967]
[3968]
[3969]
[3970]
[3971]
[3972]
[3973]
[3974]
[3975]
[3976]
[3977]
[3978]
[3979]
[3980]
[3981]
[3982]
[3983]
[3984]
[3985]
[3986]
[3987]
[3988]
[3989]
[3990]
[3991]
[3992]
[3993]
[3994]
[3995]
[3996]
[3997]
[3998]

{"sheet":"Ratio Gain Perte","index":3,"n_rows":1,"n_cols":1,"rows_kept":1,"cut":false,"hidden":false,"merged":[[0,0,0,23]]}
["Ratio Gain / Perte"]

{"sheet":"Journal de Trading Long Terme","index":4,"n_rows":61,"n_cols":85,"rows_kept":61,"cut":false,"hidden":false,"merged":[[54,11,56,11],[54,12,56,12],[54,13,56,13],[58,11,60,11],[58,12,60,12],[58,13,60,13],[46,11,48,11],[46,12,48,12],[46,13,48,13],[50,11,52,11],[50,12,52,12],[50,13,52,13],[38,11,40,11],[38,12,40,12],[38,13,40,13],[42,11,44,11],[42,12,44,12],[42,13,44,13],[30,11,32,11],[30,12,32,12],[30,13,32,13],[34,11,36,11],[34,12,36,12],[34,13,36,13],[22,11,24,11],[22,12,24,12],[22,13,24,13],[23,0,27,2],[26,11,28,11],[26,12,28,12],[26,13,28,13],[11,0,15,2],[14,11,16,11],[14,12,16,12],[14,13,16,13],[17,0,21,2],[18,11,20,11],[18,12,20,12],[18,13,20,13],[4,11,4,13],[6,11,8,11],[6,12,8,12],[6,13,8,13],[10,11,12,11],[10,12,12,12],[10,13,12,13]]}
[]
[null,"Monnaie","Euro",null,null,"Lundi","Mardi","Mercredi","Jeudi","Vendredi","% Augmentation","Objectif en %"]
[null,"Capital départ trimestre",100,null,"Totaux",{"$f":"SUM(F6,F10,F14,F18,F22,F26,F30,F34,F38,F42,F46,F50,F54,F58)","v":0},{"$f":"SUM(G6,G10,G14,G18,G22,G26,G30,G34,G38,G42,G46,G50,G54,G58)","v":0},{"$f":"SUM(H6,H10,H14,H18,H22,H26,H30,H34,H38,H42,H46,H50,H54,H58)","v":0},{"$f":"SUM(I6,I10,I14,I18,I22,I26,I30,I34,I38,I42,I46,I50,I54,I58)","v":0},{"$f":"SUM(J6,J10,J14,J18,J22,J26,J30,J34,J38,J42,J46,J50,J54,J58)","v":0},{"$f":"C5","v":0},10]
[null,"Capital actuel",{"$f":"J61","v":100}]
[null,"% d'augmentation",{"$f":"((C4-C3)/C3)*100","v":0},null,"Semaine",null,null,null,null,null,null,"Commentaires sur la semaine",null,null,null,{"$f":"F9","v":100},{"$f":"G9","v":100},{"$f":"H9","v":100},{"$f":"I9","v":100},{"$f":"J9","v":100},{"$f":"F13","v":100},{"$f":"G13","v":100},{"$f":"H13","v":100},{"$f":"I13","v":100},{"$f":"J13","v":100},{"$f":"F17","v":100},{"$f":"G17","v":100},{"$f":"H17","v":100},{"$f":"I17","v":100},{"$f":"J17","v":100},{"$f":"F21","v":100},{"$f":"G21","v":100},{"$f":"H21","v":100},{"$f":"I21","v":100},{"$f":"J21","v":100},{"$f":"F25","v":100},{"$f":"G25","v":100},{"$f":"H25","v":100},{"$f":"I25","v":100},{"$f":"J25","v":100},{"$f":"F29","v":100},{"$f":"G29","v":100},{"$f":"H29","v":100},{"$f":"I29","v":100},{"$f":"J29","v":100},{"$f":"F33","v":100},{"$f":"G33","v":100},{"$f":"H33","v":100},{"$f":"I33","v":100},{"$f":"J33","v":100},{"$f":"F37","v":100},{"$f":"G37","v":100},{"$f":"H37","v":100},{"$f":"I37","v":100},{"$f":"J37","v":100},{"$f":"F41","v":100},{"$f":"G41","v":100},{"$f":"H41","v":100},{"$f":"I41","v":100},{"$f":"J41","v":100},{"$f":"F45","v":100},{"$f":"G45","v":100},{"$f":"H45","v":100},{"$f":"I45","v":100},{"$f":"J45","v":100},{"$f":"F49","v":100},{"$f":"G49","v":100},{"$f":"H49","v":100},{"$f":"I49","v":100},{"$f":"J49","v":100},{"$f":"F53","v":100},{"$f":"G53","v":100},{"$f":"H53","v":100},{"$f":"I53","v":100},{"$f":"J53","v":100},{"$f":"F57","v":100},{"$f":"G57","v":100},{"$f":"H57","v":100},{"$f":"I57","v":100},{"$f":"J57","v":100},{"$f":"F61","v":100},{"$f":"G61","v":100},{"$f":"H61","v":100},{"$f":"I61","v":100},{"$f":"J61","v":100}]
[null,"Montant gagné",{"$f":"C4-C3","v":0},null,1,{"$f":"(F8/F7)*100","v":0},{"$f":"(G8/G7)*100","v":0},{"$f":"(H8/H7)*100","v":0},{"$f":"(I8/I7)*100","v":0},{"$f":"(J8/J7)*100","v":0},{"$f":"((J9-F7)/F7)*100","v":0},"Règles respectées ?","Stratégie utilisée","Notes"]
[null,null,null,null,"Debut",{"$f":"C3","v":100},{"$f":"F9","v":100},{"$f":"G9","v":100},{"$f":"H9","v":100},{"$f":"I9","v":100}]
[null,"Objectif Trimestre 1",1000,null,"Gain/Perte",0,0,0,0,0]
[null,"Objectif Trimestre 2",2000,null,"Fin",{"$f":"SUM(F7:F8)","v":100},{"$f":"SUM(G7:G8)","v":100},{"$f":"SUM(H7:H8)","v":100},{"$f":"SUM(I7:I8)","v":100},{"$f":"SUM(J7:J8)","v":100}]
[null,"Objectif Trimestre 3",3000,null,2,{"$f":"(F12/F13)*100","v":0},{"$f":"(G12/G13)*100","v":0},{"$f":"(H12/H13)*100","v":0},{"$f":"(I12/I13)*100","v":0},{"$f":"(J12/J13)*100","v":0},{"$f":"((J13-F11)/F11)*100","v":0}]
[null,null,null,null,"Debut",{"$f":"J9","v":100},{"$f":"F13","v":100},{"$f":"G13","v":100},{"$f":"H13","v":100},{"$f":"I13","v":100}]
["Au début du trimestre, renseignez votre capital de départ, puis chaque jour le gain ou la perte réalisée. Tout le reste se calculera automatiquement.",null,null,null,"Gain/Perte",0,0,0,0,0]
[null,null,null,null,"Fin",{"$f":"SUM(F11:F12)","v":100},{"$f":"SUM(G11:G12)","v":100},{"$f":"SUM(H11:H12)","v":100},{"$f":"SUM(I11:I12)","v":100},{"$f":"SUM(J11:J12)","v":100}]
[null,null,null,null,3,{"$f":"(F16/F17)*100","v":0},{"$f":"(G16/G17)*100","v":0},{"$f":"(H16/H17)*100","v":0},{"$f":"(I16/I17)*100","v":0},{"$f":"(J16/J17)*100","v":0},{"$f":"((J17-F15)/F15)*100","v":0}]
[null,null,null,null,"Debut",{"$f":"J13","v":100},{"$f":"F17","v":100},{"$f":"G17","v":100},{"$f":"H17","v":100},{"$f":"I17","v":100}]
[null,null,null,null,"Gain/Perte",0,0,0,0,0]
[null,null,null,null,"Fin",{"$f":"SUM(F15:F16)","v":100},{"$f":"SUM(G15:G16)","v":100},{"$f":"SUM(H15:H16)","v":100},{"$f":"SUM(I15:I16)","v":100},{"$f":"SUM(J15:J16)","v":100}]
["Attention : Les cases contenant des chiffres en couleurs contiennent des formules et ne doivent pas être modifiées ! ( sauf si vous savez ce que vous faites )",null,null,null,4,{"$f":"(F20/F21)*100","v":0},{"$f":"(G20/G21)*100","v":0},{"$f":"(H20/H21)*100","v":0},{"$f":"(I20/I21)*100","v":0},{"$f":"(J20/J21)*100","v":0},{"$f":"((J21-F19)/F19)*100","v":0}]
[null,null,null,null,"Debut",{"$f":"J17","v":100},{"$f":"F21","v":100},{"$f":"G21","v":100},{"$f":"H21","v":100},{"$f":"I21","v":100}]
[null,null,null,null,"Gain/Perte",0,0,0,0,0]
[null,null,null,null,"Fin",{"$f":"SUM(F19:F20)","v":100},{"$f":"SUM(G19:G20)","v":100},{"$f":"SUM(H19:H20)","v":100},{"$f":"SUM(I19:I20)","v":100},{"$f":"SUM(J19:J20)","v":100}]
[null,null,null,null,5,{"$f":"(F24/F25)*100","v":0},{"$f":"(G24/G25)*100","v":0},{"$f":"(H24/H25)*100","v":0},{"$f":"(I24/I25)*100","v":0},{"$f":"(J24/J25)*100","v":0},{"$f":"((J25-F23)/F23)*100","v":0}]
[null,null,null,null,"Debut",{"$f":"J21","v":100},{"$f":"F25","v":100},{"$f":"G25","v":100},{"$f":"H25","v":100},{"$f":"I25","v":100}]
["Chaque trimestre, dupliquez cette feuille pour garder votre historique total.",null,null,null,"Gain/Perte",0,0,0,0,0]
[null,null,null,null,"Fin",{"$f":"SUM(F23:F24)","v":100},{"$f":"SUM(G23:G24)","v":100},{"$f":"SUM(H23:H24)","v":100},{"$f":"SUM(I23:I24)","v":100},{"$f":"SUM(J23:J24)","v":100}]
[null,null,null,null,6,{"$f":"(F28/F29)*100","v":0},{"$f":"(G28/G29)*100","v":0},{"$f":"(H28/H29)*100","v":0},{"$f":"(I28/I29)*100","v":0},{"$f":"(J28/J29)*100","v":0},{"$f":"((J29-F27)/F27)*100","v":0}]
[null,null,null,null,"Debut",{"$f":"J25","v":100},{"$f":"F29","v":100},{"$f":"G29","v":100},{"$f":"H29","v":100},{"$f":"I29","v":100}]
[null,null,null,null,"Gain/Perte",0,0,0,0,0]
[null,null,null,null,"Fin",{"$f":"SUM(F27:F28)","v":100},{"$f":"SUM(G27:G28)","v":100},{"$f":"SUM(H27:H28)","v":100},{"$f":"SUM(I27:I28)","v":100},{"$f":"SUM(J27:J28)","v":100}]
[null,null,null,null,7,{"$f":"(F32/F33)*100","v":0},{"$f":"(G32/G33)*100","v":0},{"$f":"(H32/H33)*100","v":0},{"$f":"(I32/I33)*100","v":0},{"$f":"(J32/J33)*100","v":0},{"$f":"((J33-F31)/F31)*100","v":0}]
[null,null,null,null,"Debut",{"$f":"J29","v":100},{"$f":"F33","v":100},{"$f":"G33","v":100},{"$f":"H33","v":100},{"$f":"I33","v":100}]
[null,null,null,null,"Gain/Perte",0,0,0,0,0]
[null,null,null,null,"Fin",{"$f":"SUM(F31:F32)","v":100},{"$f":"SUM(G31:G32)","v":100},{"$f":"SUM(H31:H32)","v":100},{"$f":"SUM(I31:I32)","v":100},{"$f":"SUM(J31:J32)","v":100}]
[null,null,null,null,8,{"$f":"(F36/F37)*100","v":0},{"$f":"(G36/G37)*100","v":0},{"$f":"(H36/H37)*100","v":0},{"$f":"(I36/I37)*100","v":0},{"$f":"(J36/J37)*100","v":0},{"$f":"((J37-F35)/F35)*100","v":0}]
[null,null,null,null,"Debut",{"$f":"J33","v":100},{"$f":"F37","v":100},{"$f":"G37","v":100},{"$f":"H37","v":100},{"$f":"I37","v":100}]
[null,null,null,null,"Gain/Perte",0,0,0,0,0]
[null,null,null,null,"Fin",{"$f":"SUM(F35:F36)","v":100},{"$f":"SUM(G35:G36)","v":100},{"$f":"SUM(H35:H36)","v":100},{"$f":"SUM(I35:I36)","v":100},{"$f":"SUM(J35:J36)","v":100}]
[null,null,null,null,9,{"$f":"(F40/F41)*100","v":0},{"$f":"(G40/G41)*100","v":0},{"$f":"(H40/H41)*100","v":0},{"$f":"(I40/I41)*100","v":0},{"$f":"(J40/J41)*100","v":0},{"$f":"((J41-F39)/F39)*100","v":0}]
[null,null,null,null,"Debut",{"$f":"J37","v":100},{"$f":"F41","v":100},{"$f":"G41","v":100},{"$f":"H41","v":100},{"$f":"I41","v":100}]
[null,null,null,null,"Gain/Perte",0,0,0,0,0]
[null,null,null,null,"Fin",{"$f":"SUM(F39:F40)","v":100},{"$f":"SUM(G39:G40)","v":100},{"$f":"SUM(H39:H40)","v":100},{"$f":"SUM(I39:I40)","v":100},{"$f":"SUM(J39:J40)","v":100}]
[null,null,null,null,10,{"$f":"(F44/F45)*100","v":0},{"$f":"(G44/G45)*100","v":0},{"$f":"(H44/H45)*100","v":0},{"$f":"(I44/I45)*100","v":0},{"$f":"(J44/J45)*100","v":0},{"$f":"((J45-F43)/F43)*100","v":0}]
[null,null,null,null,"Debut",{"$f":"J41","v":100},{"$f":"F45","v":100},{"$f":"G45","v":100},{"$f":"H45","v":100},{"$f":"I45","v":100}]
[null,null,null,null,"Gain/Perte",0,0,0,0,0]
[null,null,null,null,"Fin",{"$f":"SUM(F43:F44)","v":100},{"$f":"SUM(G43:G44)","v":100},{"$f":"SUM(H43:H44)","v":100},{"$f":"SUM(I43:I44)","v":100},{"$f":"SUM(J43:J44)","v":100}]
[null,null,null,null,11,{"$f":"(F48/F49)*100","v":0},{"$f":"(G48/G49)*100","v":0},{"$f":"(H48/H49)*100","v":0},{"$f":"(I48/I49)*100","v":0},{"$f":"(J48/J49)*100","v":0},{"$f":"((J49-F47)/F47)*100","v":0}]
[null,null,null,null,"Debut",{"$f":"J45","v":100},{"$f":"F49","v":100},{"$f":"G49","v":100},{"$f":"H49","v":100},{"$f":"I49","v":100}]
[null,null,null,null,"Gain/Perte",0,0,0,0,0]
[null,null,null,null,"Fin",{"$f":"SUM(F47:F48)","v":100},{"$f":"SUM(G47:G48)","v":100},{"$f":"SUM(H47:H48)","v":100},{"$f":"SUM(I47:I48)","v":100},{"$f":"SUM(J47:J48)","v":100}]
[null,null,null,null,12,{"$f":"(F52/F53)*100","v":0},{"$f":"(G52/G53)*100","v":0},{"$f":"(H52/H53)*100","v":0},{"$f":"(I52/I53)*100","v":0},{"$f":"(J52/J53)*100","v":0},{"$f":"((J53-F51)/F51)*100","v":0}]
[null,null,null,null,"Debut",{"$f":"J49","v":100},{"$f":"F53","v":100},{"$f":"G53","v":100},{"$f":"H53","v":100},{"$f":"I53","v":100}]
[null,null,null,null,"Gain/Perte",0,0,0,0,0]
[null,null,null,null,"Fin",{"$f":"SUM(F51:F52)","v":100},{"$f":"SUM(G51:G52)","v":100},{"$f":"SUM(H51:H52)","v":100},{"$f":"SUM(I51:I52)","v":100},{"$f":"SUM(J51:J52)","v":100}]
[null,null,null,null,13,{"$f":"(F56/F57)*100","v":0},{"$f":"(G56/G57)*100","v":0},{"$f":"(H56/H57)*100","v":0},{"$f":"(I56/I57)*100","v":0},{"$f":"(J56/J57)*100","v":0},{"$f":"((J57-F55)/F55)*100","v":0}]
[null,null,null,null,"Debut",{"$f":"J53","v":100},{"$f":"F57","v":100},{"$f":"G57","v":100},{"$f":"H57","v":100},{"$f":"I57","v":100}]
[null,null,null,null,"Gain/Perte",0,0,0,0,0]
[null,null,null,null,"Fin",{"$f":"SUM(F55:F56)","v":100},{"$f":"SUM(G55:G56)","v":100},{"$f":"SUM(H55:H56)","v":100},{"$f":"SUM(I55:I56)","v":100},{"$f":"SUM(J55:J56)","v":100}]
[null,null,null,null,14,{"$f":"(F60/F61)*100","v":0},{"$f":"(G60/G61)*100","v":0},{"$f":"(H60/H61)*100","v":0},{"$f":"(I60/I61)*100","v":0},{"$f":"(J60/J61)*100","v":0},{"$f":"((J61-F59)/F59)*100","v":0}]
[null,null,null,null,"Debut",{"$f":"J57","v":100},{"$f":"F61","v":100},{"$f":"G61","v":100},{"$f":"H61","v":100},{"$f":"I61","v":100}]
[null,null,null,null,"Gain/Perte",0,0,0,0,0]
[null,null,null,null,"Fin",{"$f":"SUM(F59:F60)","v":100},{"$f":"SUM(G59:G60)","v":100},{"$f":"SUM(H59:H60)","v":100},{"$f":"SUM(I59:I60)","v":100},{"$f":"SUM(J59:J60)","v":100}]

{"sheet":"rentabilite","index":5,"n_rows":544,"n_cols":5,"rows_kept":544,"cut":false,"hidden":true,"merged":[]}
[1,{"$f":"(#REF!*#REF!)+#REF!","v":{"$error":"#REF!"}},null,"Janvier",{"$f":"(#REF!*#REF!)+#REF!","v":{"$error":"#REF!"}}]
[2,{"$f":"(B1*#REF!)+B1","v":{"$error":"#REF!"}},null,"Février",{"$f":"(E1*#REF!)+E1","v":{"$error":"#REF!"}}]
[3,{"$f":"(B2*#REF!)+B2","v":{"$error":"#REF!"}},null,"Mars",{"$f":"(E2*#REF!)+E2","v":{"$error":"#REF!"}}]
[4,{"$f":"(B3*#REF!)+B3","v":{"$error":"#REF!"}},null,"Avril",{"$f":"(E3*#REF!)+E3","v":{"$error":"#REF!"}}]
[5,{"$f":"(B4*#REF!)+B4","v":{"$error":"#REF!"}},null,"Mai",{"$f":"(E4*#REF!)+E4","v":{"$error":"#REF!"}}]
[6,{"$f":"(B5*#REF!)+B5","v":{"$error":"#REF!"}},null,"Juin",{"$f":"(E5*#REF!)+E5","v":{"$error":"#REF!"}}]
[7,{"$f":"(B6*#REF!)+B6","v":{"$error":"#REF!"}},null,"Juillet",{"$f":"(E6*#REF!)+E6","v":{"$error":"#REF!"}}]
[8,{"$f":"(B7*#REF!)+B7","v":{"$error":"#REF!"}},null,"Août",{"$f":"(E7*#REF!)+E7","v":{"$error":"#REF!"}}]
[9,{"$f":"(B8*#REF!)+B8","v":{"$error":"#REF!"}},null,"Septembre",{"$f":"(E8*#REF!)+E8","v":{"$error":"#REF!"}}]
[10,{"$f":"(B9*#REF!)+B9","v":{"$error":"#REF!"}},null,"Octobre",{"$f":"(E9*#REF!)+E9","v":{"$error":"#REF!"}}]
[11,{"$f":"(B10*#REF!)+B10","v":{"$error":"#REF!"}},null,"Novembre",{"$f":"(E10*#REF!)+E10","v":{"$error":"#REF!"}}]
[12,{"$f":"(B11*#REF!)+B11","v":{"$error":"#REF!"}},null,"Décembre",{"$f":"(E11*#REF!)+E11","v":{"$error":"#REF!"}}]
[13,{"$f":"(B12*#REF!)+B12","v":{"$error":"#REF!"}}]
[14,{"$f":"(B13*#REF!)+B13","v":{"$error":"#REF!"}}]
[15,{"$f":"(B14*#REF!)+B14","v":{"$error":"#REF!"}}]
[16,{"$f":"(B15*#REF!)+B15","v":{"$error":"#REF!"}}]
[17,{"$f":"(B16*#REF!)+B16","v":{"$error":"#REF!"}}]
[18,{"$f":"(B17*#REF!)+B17","v":{"$error":"#REF!"}}]
[19,{"$f":"(B18*#REF!)+B18","v":{"$error":"#REF!"}}]
[20,{"$f":"(B19*#REF!)+B19","v":{"$error":"#REF!"}}]
[21,{"$f":"(B20*#REF!)+B20","v":{"$error":"#REF!"}}]
[22,{"$f":"(B21*#REF!)+B21","v":{"$error":"#REF!"}}]
[23,{"$f":"(B22*#REF!)+B22","v":{"$error":"#REF!"}}]
[24,{"$f":"(B23*#REF!)+B23","v":{"$error":"#REF!"}}]
[25,{"$f":"(B24*#REF!)+B24","v":{"$error":"#REF!"}}]
[26,{"$f":"(B25*#REF!)+B25","v":{"$error":"#REF!"}}]
[27,{"$f":"(B26*#REF!)+B26","v":{"$error":"#REF!"}}]
[28,{"$f":"(B27*#REF!)+B27","v":{"$error":"#REF!"}}]
[29,{"$f":"(B28*#REF!)+B28","v":{"$error":"#REF!"}}]
[30,{"$f":"(B29*#REF!)+B29","v":{"$error":"#REF!"}}]
[31,{"$f":"(B30*#REF!)+B30","v":{"$error":"#REF!"}}]
[32,{"$f":"(B31*#REF!)+B31","v":{"$error":"#REF!"}}]
[33,{"$f":"(B32*#REF!)+B32","v":{"$error":"#REF!"}}]
[34,{"$f":"(B33*#REF!)+B33","v":{"$error":"#REF!"}}]
[35,{"$f":"(B34*#REF!)+B34","v":{"$error":"#REF!"}}]
[36,{"$f":"(B35*#REF!)+B35","v":{"$error":"#REF!"}}]
[37,{"$f":"(B36*#REF!)+B36","v":{"$error":"#REF!"}}]
[38,{"$f":"(B37*#REF!)+B37","v":{"$error":"#REF!"}}]
[39,{"$f":"(B38*#REF!)+B38","v":{"$error":"#REF!"}}]
[40,{"$f":"(B39*#REF!)+B39","v":{"$error":"#REF!"}}]
[41,{"$f":"(B40*#REF!)+B40","v":{"$error":"#REF!"}}]
[42,{"$f":"(B41*#REF!)+B41","v":{"$error":"#REF!"}}]
[43,{"$f":"(B42*#REF!)+B42","v":{"$error":"#REF!"}}]
[44,{"$f":"(B43*#REF!)+B43","v":{"$error":"#REF!"}}]
[45,{"$f":"(B44*#REF!)+B44","v":{"$error":"#REF!"}}]
[46,{"$f":"(B45*#REF!)+B45","v":{"$error":"#REF!"}}]
[47,{"$f":"(B46*#REF!)+B46","v":{"$error":"#REF!"}}]
[48,{"$f":"(B47*#REF!)+B47","v":{"$error":"#REF!"}}]
[49,{"$f":"(B48*#REF!)+B48","v":{"$error":"#REF!"}}]
[50,{"$f":"(B49*#REF!)+B49","v":{"$error":"#REF!"}}]
[51,{"$f":"(B50*#REF!)+B50","v":{"$error":"#REF!"}}]
[52,{"$f":"(B51*#REF!)+B51","v":{"$error":"#REF!"}}]
[53,{"$f":"(B52*#REF!)+B52","v":{"$error":"#REF!"}}]
[54,{"$f":"(B53*#REF!)+B53","v":{"$error":"#REF!"}}]
[55,{"$f":"(B54*#REF!)+B54","v":{"$error":"#REF!"}}]
[56,{"$f":"(B55*#REF!)+B55","v":{"$error":"#REF!"}}]
[57,{"$f":"(B56*#REF!)+B56","v":{"$error":"#REF!"}}]
[58,{"$f":"(B57*#REF!)+B57","v":{"$error":"#REF!"}}]
[59,{"$f":"(B58*#REF!)+B58","v":{"$error":"#REF!"}}]
[60,{"$f":"(B59*#REF!)+B59","v":{"$error":"#REF!"}}]
[61,{"$f":"(B60*#REF!)+B60","v":{"$error":"#REF!"}}]
[62,{"$f":"(B61*#REF!)+B61","v":{"$error":"#REF!"}}]
[63,{"$f":"(B62*#REF!)+B62","v":{"$error":"#REF!"}}]
[64,{"$f":"(B63*#REF!)+B63","v":{"$error":"#REF!"}}]
[65,{"$f":"(B64*#REF!)+B64","v":{"$error":"#REF!"}}]
[66,{"$f":"(B65*#REF!)+B65","v":{"$error":"#REF!"}}]
[67,{"$f":"(B66*#REF!)+B66","v":{"$error":"#REF!"}}]
[68,{"$f":"(B67*#REF!)+B67","v":{"$error":"#REF!"}}]
[69,{"$f":"(B68*#REF!)+B68","v":{"$error":"#REF!"}}]
[70,{"$f":"(B69*#REF!)+B69","v":{"$error":"#REF!"}}]
[71,{"$f":"(B70*#REF!)+B70","v":{"$error":"#REF!"}}]
[72,{"$f":"(B71*#REF!)+B71","v":{"$error":"#REF!"}}]
[73,{"$f":"(B72*#REF!)+B72","v":{"$error":"#REF!"}}]
[74,{"$f":"(B73*#REF!)+B73","v":{"$error":"#REF!"}}]
[75,{"$f":"(B74*#REF!)+B74","v":{"$error":"#REF!"}}]
[76,{"$f":"(B75*#REF!)+B75","v":{"$error":"#REF!"}}]
[77,{"$f":"(B76*#REF!)+B76","v":{"$error":"#REF!"}}]
[78,{"$f":"(B77*#REF!)+B77","v":{"$error":"#REF!"}}]
[79,{"$f":"(B78*#REF!)+B78","v":{"$error":"#REF!"}}]
[80,{"$f":"(B79*#REF!)+B79","v":{"$error":"#REF!"}}]
[81,{"$f":"(B80*#REF!)+B80","v":{"$error":"#REF!"}}]
[82,{"$f":"(B81*#REF!)+B81","v":{"$error":"#REF!"}}]
[83,{"$f":"(B82*#REF!)+B82","v":{"$error":"#REF!"}}]
[84,{"$f":"(B83*#REF!)+B83","v":{"$error":"#REF!"}}]
[85,{"$f":"(B84*#REF!)+B84","v":{"$error":"#REF!"}}]
[86,{"$f":"(B85*#REF!)+B85","v":{"$error":"#REF!"}}]
[87,{"$f":"(B86*#REF!)+B86","v":{"$error":"#REF!"}}]
[88,{"$f":"(B87*#REF!)+B87","v":{"$error":"#REF!"}}]
[89,{"$f":"(B88*#REF!)+B88","v":{"$error":"#REF!"}}]
[90,{"$f":"(B89*#REF!)+B89","v":{"$error":"#REF!"}}]
[91,{"$f":"(B90*#REF!)+B90","v":{"$error":"#REF!"}}]
[92,{"$f":"(B91*#REF!)+B91","v":{"$error":"#REF!"}}]
[93,{"$f":"(B92*#REF!)+B92","v":{"$error":"#REF!"}}]
[94,{"$f":"(B93*#REF!)+B93","v":{"$error":"#REF!"}}]
[95,{"$f":"(B94*#REF!)+B94","v":{"$error":"#REF!"}}]
[96,{"$f":"(B95*#REF!)+B95","v":{"$error":"#REF!"}}]
[97,{"$f":"(B96*#REF!)+B96","v":{"$error":"#REF!"}}]
[98,{"$f":"(B97*#REF!)+B97","v":{"$error":"#REF!"}}]
[99,{"$f":"(B98*#REF!)+B98","v":{"$error":"#REF!"}}]
[100,{"$f":"(B99*#REF!)+B99","v":{"$error":"#REF!"}}]
[101,{"$f":"(B100*#REF!)+B100","v":{"$error":"#REF!"}}]
[102,{"$f":"(B101*#REF!)+B101","v":{"$error":"#REF!"}}]
[103,{"$f":"(B102*#REF!)+B102","v":{"$error":"#REF!"}}]
[104,{"$f":"(B103*#REF!)+B103","v":{"$error":"#REF!"}}]
[105,{"$f":"(B104*#REF!)+B104","v":{"$error":"#REF!"}}]
[106,{"$f":"(B105*#REF!)+B105","v":{"$error":"#REF!"}}]
[107,{"$f":"(B106*#REF!)+B106","v":{"$error":"#REF!"}}]
[108,{"$f":"(B107*#REF!)+B107","v":{"$error":"#REF!"}}]
[109,{"$f":"(B108*#REF!)+B108","v":{"$error":"#REF!"}}]
[110,{"$f":"(B109*#REF!)+B109","v":{"$error":"#REF!"}}]
[111,{"$f":"(B110*#REF!)+B110","v":{"$error":"#REF!"}}]
[112,{"$f":"(B111*#REF!)+B111","v":{"$error":"#REF!"}}]
[113,{"$f":"(B112*#REF!)+B112","v":{"$error":"#REF!"}}]
[114,{"$f":"(B113*#REF!)+B113","v":{"$error":"#REF!"}}]
[115,{"$f":"(B114*#REF!)+B114","v":{"$error":"#REF!"}}]
[116,{"$f":"(B115*#REF!)+B115","v":{"$error":"#REF!"}}]
[117,{"$f":"(B116*#REF!)+B116","v":{"$error":"#REF!"}}]
[118,{"$f":"(B117*#REF!)+B117","v":{"$error":"#REF!"}}]
[119,{"$f":"(B118*#REF!)+B118","v":{"$error":"#REF!"}}]
[120,{"$f":"(B119*#REF!)+B119","v":{"$error":"#REF!"}}]
[121,{"$f":"(B120*#REF!)+B120","v":{"$error":"#REF!"}}]
[122,{"$f":"(B121*#REF!)+B121","v":{"$error":"#REF!"}}]
[123,{"$f":"(B122*#REF!)+B122","v":{"$error":"#REF!"}}]
[124,{"$f":"(B123*#REF!)+B123","v":{"$error":"#REF!"}}]
[125,{"$f":"(B124*#REF!)+B124","v":{"$error":"#REF!"}}]
[126,{"$f":"(B125*#REF!)+B125","v":{"$error":"#REF!"}}]
[127,{"$f":"(B126*#REF!)+B126","v":{"$error":"#REF!"}}]
[128,{"$f":"(B127*#REF!)+B127","v":{"$error":"#REF!"}}]
[129,{"$f":"(B128*#REF!)+B128","v":{"$error":"#REF!"}}]
[130,{"$f":"(B129*#REF!)+B129","v":{"$error":"#REF!"}}]
[131,{"$f":"(B130*#REF!)+B130","v":{"$error":"#REF!"}}]
[132,{"$f":"(B131*#REF!)+B131","v":{"$error":"#REF!"}}]
[133,{"$f":"(B132*#REF!)+B132","v":{"$error":"#REF!"}}]
[134,{"$f":"(B133*#REF!)+B133","v":{"$error":"#REF!"}}]
[135,{"$f":"(B134*#REF!)+B134","v":{"$error":"#REF!"}}]
[136,{"$f":"(B135*#REF!)+B135","v":{"$error":"#REF!"}}]
[137,{"$f":"(B136*#REF!)+B136","v":{"$error":"#REF!"}}]
[138,{"$f":"(B137*#REF!)+B137","v":{"$error":"#REF!"}}]
[139,{"$f":"(B138*#REF!)+B138","v":{"$error":"#REF!"}}]
[140,{"$f":"(B139*#REF!)+B139","v":{"$error":"#REF!"}}]
[141,{"$f":"(B140*#REF!)+B140","v":{"$error":"#REF!"}}]
[142,{"$f":"(B141*#REF!)+B141","v":{"$error":"#REF!"}}]
[143,{"$f":"(B142*#REF!)+B142","v":{"$error":"#REF!"}}]
[144,{"$f":"(B143*#REF!)+B143","v":{"$error":"#REF!"}}]
[145,{"$f":"(B144*#REF!)+B144","v":{"$error":"#REF!"}}]
[146,{"$f":"(B145*#REF!)+B145","v":{"$error":"#REF!"}}]
[147,{"$f":"(B146*#REF!)+B146","v":{"$error":"#REF!"}}]
[148,{"$f":"(B147*#REF!)+B147","v":{"$error":"#REF!"}}]
[149,{"$f":"(B148*#REF!)+B148","v":{"$error":"#REF!"}}]
[150,{"$f":"(B149*#REF!)+B149","v":{"$error":"#REF!"}}]
[151,{"$f":"(B150*#REF!)+B150","v":{"$error":"#REF!"}}]
[152,{"$f":"(B151*#REF!)+B151","v":{"$error":"#REF!"}}]
[153,{"$f":"(B152*#REF!)+B152","v":{"$error":"#REF!"}}]
[154,{"$f":"(B153*#REF!)+B153","v":{"$error":"#REF!"}}]
[155,{"$f":"(B154*#REF!)+B154","v":{"$error":"#REF!"}}]
[156,{"$f":"(B155*#REF!)+B155","v":{"$error":"#REF!"}}]
[157,{"$f":"(B156*#REF!)+B156","v":{"$error":"#REF!"}}]
[158,{"$f":"(B157*#REF!)+B157","v":{"$error":"#REF!"}}]
[159,{"$f":"(B158*#REF!)+B158","v":{"$error":"#REF!"}}]
[160,{"$f":"(B159*#REF!)+B159","v":{"$error":"#REF!"}}]
[161,{"$f":"(B160*#REF!)+B160","v":{"$error":"#REF!"}}]
[162,{"$f":"(B161*#REF!)+B161","v":{"$error":"#REF!"}}]
[163,{"$f":"(B162*#REF!)+B162","v":{"$error":"#REF!"}}]
[164,{"$f":"(B163*#REF!)+B163","v":{"$error":"#REF!"}}]
[165,{"$f":"(B164*#REF!)+B164","v":{"$error":"#REF!"}}]
[166,{"$f":"(B165*#REF!)+B165","v":{"$error":"#REF!"}}]
[167,{"$f":"(B166*#REF!)+B166","v":{"$error":"#REF!"}}]
[168,{"$f":"(B167*#REF!)+B167","v":{"$error":"#REF!"}}]
[169,{"$f":"(B168*#REF!)+B168","v":{"$error":"#REF!"}}]
[170,{"$f":"(B169*#REF!)+B169","v":{"$error":"#REF!"}}]
[171,{"$f":"(B170*#REF!)+B170","v":{"$error":"#REF!"}}]
[172,{"$f":"(B171*#REF!)+B171","v":{"$error":"#REF!"}}]
[173,{"$f":"(B172*#REF!)+B172","v":{"$error":"#REF!"}}]
[174,{"$f":"(B173*#REF!)+B173","v":{"$error":"#REF!"}}]
[175,{"$f":"(B174*#REF!)+B174","v":{"$error":"#REF!"}}]
[176,{"$f":"(B175*#REF!)+B175","v":{"$error":"#REF!"}}]
[177,{"$f":"(B176*#REF!)+B176","v":{"$error":"#REF!"}}]
[178,{"$f":"(B177*#REF!)+B177","v":{"$error":"#REF!"}}]
[179,{"$f":"(B178*#REF!)+B178","v":{"$error":"#REF!"}}]
[180,{"$f":"(B179*#REF!)+B179","v":{"$error":"#REF!"}}]
[181,{"$f":"(B180*#REF!)+B180","v":{"$error":"#REF!"}}]
[182,{"$f":"(B181*#REF!)+B181","v":{"$error":"#REF!"}}]
[183,{"$f":"(B182*#REF!)+B182","v":{"$error":"#REF!"}}]
[184,{"$f":"(B183*#REF!)+B183","v":{"$error":"#REF!"}}]
[185,{"$f":"(B184*#REF!)+B184","v":{"$error":"#REF!"}}]
[186,{"$f":"(B185*#REF!)+B185","v":{"$error":"#REF!"}}]
[187,{"$f":"(B186*#REF!)+B186","v":{"$error":"#REF!"}}]
[188,{"$f":"(B187*#REF!)+B187","v":{"$error":"#REF!"}}]
[189,{"$f":"(B188*#REF!)+B188","v":{"$error":"#REF!"}}]
[190,{"$f":"(B189*#REF!)+B189","v":{"$error":"#REF!"}}]
[191,{"$f":"(B190*#REF!)+B190","v":{"$error":"#REF!"}}]
[192,{"$f":"(B191*#REF!)+B191","v":{"$error":"#REF!"}}]
[193,{"$f":"(B192*#REF!)+B192","v":{"$error":"#REF!"}}]
[194,{"$f":"(B193*#REF!)+B193","v":{"$error":"#REF!"}}]
[195,{"$f":"(B194*#REF!)+B194","v":{"$error":"#REF!"}}]
[196,{"$f":"(B195*#REF!)+B195","v":{"$error":"#REF!"}}]
[197,{"$f":"(B196*#REF!)+B196","v":{"$error":"#REF!"}}]
[198,{"$f":"(B197*#REF!)+B197","v":{"$error":"#REF!"}}]
[199,{"$f":"(B198*#REF!)+B198","v":{"$error":"#REF!"}}]
[200,{"$f":"(B199*#REF!)+B199","v":{"$error":"#REF!"}}]
[201,{"$f":"(B200*#REF!)+B200","v":{"$error":"#REF!"}}]
[202,{"$f":"(B201*#REF!)+B201","v":{"$error":"#REF!"}}]
[203,{"$f":"(B202*#REF!)+B202","v":{"$error":"#REF!"}}]
[204,{"$f":"(B203*#REF!)+B203","v":{"$error":"#REF!"}}]
[205,{"$f":"(B204*#REF!)+B204","v":{"$error":"#REF!"}}]
[206,{"$f":"(B205*#REF!)+B205","v":{"$error":"#REF!"}}]
[207,{"$f":"(B206*#REF!)+B206","v":{"$error":"#REF!"}}]
[208,{"$f":"(B207*#REF!)+B207","v":{"$error":"#REF!"}}]
[209,{"$f":"(B208*#REF!)+B208","v":{"$error":"#REF!"}}]
[210,{"$f":"(B209*#REF!)+B209","v":{"$error":"#REF!"}}]
[211,{"$f":"(B210*#REF!)+B210","v":{"$error":"#REF!"}}]
[212,{"$f":"(B211*#REF!)+B211","v":{"$error":"#REF!"}}]
[213,{"$f":"(B212*#REF!)+B212","v":{"$error":"#REF!"}}]
[214,{"$f":"(B213*#REF!)+B213","v":{"$error":"#REF!"}}]
[215,{"$f":"(B214*#REF!)+B214","v":{"$error":"#REF!"}}]
[216,{"$f":"(B215*#REF!)+B215","v":{"$error":"#REF!"}}]
[217,{"$f":"(B216*#REF!)+B216","v":{"$error":"#REF!"}}]
[218,{"$f":"(B217*#REF!)+B217","v":{"$error":"#REF!"}}]
[219,{"$f":"(B218*#REF!)+B218","v":{"$error":"#REF!"}}]
[220,{"$f":"(B219*#REF!)+B219","v":{"$error":"#REF!"}}]
[221,{"$f":"(B220*#REF!)+B220","v":{"$error":"#REF!"}}]
[222,{"$f":"(B221*#REF!)+B221","v":{"$error":"#REF!"}}]
[223,{"$f":"(B222*#REF!)+B222","v":{"$error":"#REF!"}}]
[224,{"$f":"(B223*#REF!)+B223","v":{"$error":"#REF!"}}]
[225,{"$f":"(B224*#REF!)+B224","v":{"$error":"#REF!"}}]
[226,{"$f":"(B225*#REF!)+B225","v":{"$error":"#REF!"}}]
[227,{"$f":"(B226*#REF!)+B226","v":{"$error":"#REF!"}}]
[228,{"$f":"(B227*#REF!)+B227","v":{"$error":"#REF!"}}]
[229,{"$f":"(B228*#REF!)+B228","v":{"$error":"#REF!"}}]
[230,{"$f":"(B229*#REF!)+B229","v":{"$error":"#REF!"}}]
[231,{"$f":"(B230*#REF!)+B230","v":{"$error":"#REF!"}}]
[232,{"$f":"(B231*#REF!)+B231","v":{"$error":"#REF!"}}]
[233,{"$f":"(B232*#REF!)+B232","v":{"$error":"#REF!"}}]
[234,{"$f":"(B233*#REF!)+B233","v":{"$error":"#REF!"}}]
[235,{"$f":"(B234*#REF!)+B234","v":{"$error":"#REF!"}}]
[236,{"$f":"(B235*#REF!)+B235","v":{"$error":"#REF!"}}]
[237,{"$f":"(B236*#REF!)+B236","v":{"$error":"#REF!"}}]
[238,{"$f":"(B237*#REF!)+B237","v":{"$error":"#REF!"}}]
[239,{"$f":"(B238*#REF!)+B238","v":{"$error":"#REF!"}}]
[240,{"$f":"(B239*#REF!)+B239","v":{"$error":"#REF!"}}]
[241,{"$f":"(B240*#REF!)+B240","v":{"$error":"#REF!"}}]
[242,{"$f":"(B241*#REF!)+B241","v":{"$error":"#REF!"}}]
[243,{"$f":"(B242*#REF!)+B242","v":{"$error":"#REF!"}}]
[244,{"$f":"(B243*#REF!)+B243","v":{"$error":"#REF!"}}]
[245,{"$f":"(B244*#REF!)+B244","v":{"$error":"#REF!"}}]
[246,{"$f":"(B245*#REF!)+B245","v":{"$error":"#REF!"}}]
[247,{"$f":"(B246*#REF!)+B246","v":{"$error":"#REF!"}}]
[248,{"$f":"(B247*#REF!)+B247","v":{"$error":"#REF!"}}]
[249,{"$f":"(B248*#REF!)+B248","v":{"$error":"#REF!"}}]
[250,{"$f":"(B249*#REF!)+B249","v":{"$error":"#REF!"}}]
[251,{"$f":"(B250*#REF!)+B250","v":{"$error":"#REF!"}}]
[252,{"$f":"(B251*#REF!)+B251","v":{"$error":"#REF!"}}]
[253,{"$f":"(B252*#REF!)+B252","v":{"$error":"#REF!"}}]
[254,{"$f":"(B253*#REF!)+B253","v":{"$error":"#REF!"}}]
[255,{"$f":"(B254*#REF!)+B254","v":{"$error":"#REF!"}}]
[256,{"$f":"(B255*#REF!)+B255","v":{"$error":"#REF!"}}]
[257,{"$f":"(B256*#REF!)+B256","v":{"$error":"#REF!"}}]
[258,{"$f":"(B257*#REF!)+B257","v":{"$error":"#REF!"}}]
[259,{"$f":"(B258*#REF!)+B258","v":{"$error":"#REF!"}}]
[260,{"$f":"(B259*#REF!)+B259","v":{"$error":"#REF!"}}]
[261,{"$f":"(B260*#REF!)+B260","v":{"$error":"#REF!"}}]
[262,{"$f":"(B261*#REF!)+B261","v":{"$error":"#REF!"}}]
[263,{"$f":"(B262*#REF!)+B262","v":{"$error":"#REF!"}}]
[264,{"$f":"(B263*#REF!)+B263","v":{"$error":"#REF!"}}]
[265,{"$f":"(B264*#REF!)+B264","v":{"$error":"#REF!"}}]
[266,{"$f":"(B265*#REF!)+B265","v":{"$error":"#REF!"}}]
[267,{"$f":"(B266*#REF!)+B266","v":{"$error":"#REF!"}}]
[268,{"$f":"(B267*#REF!)+B267","v":{"$error":"#REF!"}}]
[269,{"$f":"(B268*#REF!)+B268","v":{"$error":"#REF!"}}]
[270,{"$f":"(B269*#REF!)+B269","v":{"$error":"#REF!"}}]
[271,{"$f":"(B270*#REF!)+B270","v":{"$error":"#REF!"}}]
[272,{"$f":"(B271*#REF!)+B271","v":{"$error":"#REF!"}}]
[273,{"$f":"(B272*#REF!)+B272","v":{"$error":"#REF!"}}]
[274,{"$f":"(B273*#REF!)+B273","v":{"$error":"#REF!"}}]
[275,{"$f":"(B274*#REF!)+B274","v":{"$error":"#REF!"}}]
[276,{"$f":"(B275*#REF!)+B275","v":{"$error":"#REF!"}}]
[277,{"$f":"(B276*#REF!)+B276","v":{"$error":"#REF!"}}]
[278,{"$f":"(B277*#REF!)+B277","v":{"$error":"#REF!"}}]
[279,{"$f":"(B278*#REF!)+B278","v":{"$error":"#REF!"}}]
[280,{"$f":"(B279*#REF!)+B279","v":{"$error":"#REF!"}}]
[281,{"$f":"(B280*#REF!)+B280","v":{"$error":"#REF!"}}]
[282,{"$f":"(B281*#REF!)+B281","v":{"$error":"#REF!"}}]
[283,{"$f":"(B282*#REF!)+B282","v":{"$error":"#REF!"}}]
[284,{"$f":"(B283*#REF!)+B283","v":{"$error":"#REF!"}}]
[285,{"$f":"(B284*#REF!)+B284","v":{"$error":"#REF!"}}]
[286,{"$f":"(B285*#REF!)+B285","v":{"$error":"#REF!"}}]
[287,{"$f":"(B286*#REF!)+B286","v":{"$error":"#REF!"}}]
[288,{"$f":"(B287*#REF!)+B287","v":{"$error":"#REF!"}}]
[289,{"$f":"(B288*#REF!)+B288","v":{"$error":"#REF!"}}]
[290,{"$f":"(B289*#REF!)+B289","v":{"$error":"#REF!"}}]
[291,{"$f":"(B290*#REF!)+B290","v":{"$error":"#REF!"}}]
[292,{"$f":"(B291*#REF!)+B291","v":{"$error":"#REF!"}}]
[293,{"$f":"(B292*#REF!)+B292","v":{"$error":"#REF!"}}]
[294,{"$f":"(B293*#REF!)+B293","v":{"$error":"#REF!"}}]
[295,{"$f":"(B294*#REF!)+B294","v":{"$error":"#REF!"}}]
[296,{"$f":"(B295*#REF!)+B295","v":{"$error":"#REF!"}}]
[297,{"$f":"(B296*#REF!)+B296","v":{"$error":"#REF!"}}]
[298,{"$f":"(B297*#REF!)+B297","v":{"$error":"#REF!"}}]
[299,{"$f":"(B298*#REF!)+B298","v":{"$error":"#REF!"}}]
[300,{"$f":"(B299*#REF!)+B299","v":{"$error":"#REF!"}}]
[301,{"$f":"(B300*#REF!)+B300","v":{"$error":"#REF!"}}]
[302,{"$f":"(B301*#REF!)+B301","v":{"$error":"#REF!"}}]
[303,{"$f":"(B302*#REF!)+B302","v":{"$error":"#REF!"}}]
[304,{"$f":"(B303*#REF!)+B303","v":{"$error":"#REF!"}}]
[305,{"$f":"(B304*#REF!)+B304","v":{"$error":"#REF!"}}]
[306,{"$f":"(B305*#REF!)+B305","v":{"$error":"#REF!"}}]
[307,{"$f":"(B306*#REF!)+B306","v":{"$error":"#REF!"}}]
[308,{"$f":"(B307*#REF!)+B307","v":{"$error":"#REF!"}}]
[309,{"$f":"(B308*#REF!)+B308","v":{"$error":"#REF!"}}]
[310,{"$f":"(B309*#REF!)+B309","v":{"$error":"#REF!"}}]
[311,{"$f":"(B310*#REF!)+B310","v":{"$error":"#REF!"}}]
[312,{"$f":"(B311*#REF!)+B311","v":{"$error":"#REF!"}}]
[313,{"$f":"(B312*#REF!)+B312","v":{"$error":"#REF!"}}]
[314,{"$f":"(B313*#REF!)+B313","v":{"$error":"#REF!"}}]
[315,{"$f":"(B314*#REF!)+B314","v":{"$error":"#REF!"}}]
[316,{"$f":"(B315*#REF!)+B315","v":{"$error":"#REF!"}}]
[317,{"$f":"(B316*#REF!)+B316","v":{"$error":"#REF!"}}]
[318,{"$f":"(B317*#REF!)+B317","v":{"$error":"#REF!"}}]
[319,{"$f":"(B318*#REF!)+B318","v":{"$error":"#REF!"}}]
[320,{"$f":"(B319*#REF!)+B319","v":{"$error":"#REF!"}}]
[321,{"$f":"(B320*#REF!)+B320","v":{"$error":"#REF!"}}]
[322,{"$f":"(B321*#REF!)+B321","v":{"$error":"#REF!"}}]
[323,{"$f":"(B322*#REF!)+B322","v":{"$error":"#REF!"}}]
[324,{"$f":"(B323*#REF!)+B323","v":{"$error":"#REF!"}}]
[325,{"$f":"(B324*#REF!)+B324","v":{"$error":"#REF!"}}]
[326,{"$f":"(B325*#REF!)+B325","v":{"$error":"#REF!"}}]
[327,{"$f":"(B326*#REF!)+B326","v":{"$error":"#REF!"}}]
[328,{"$f":"(B327*#REF!)+B327","v":{"$error":"#REF!"}}]
[329,{"$f":"(B328*#REF!)+B328","v":{"$error":"#REF!"}}]
[330,{"$f":"(B329*#REF!)+B329","v":{"$error":"#REF!"}}]
[331,{"$f":"(B330*#REF!)+B330","v":{"$error":"#REF!"}}]
[332,{"$f":"(B331*#REF!)+B331","v":{"$error":"#REF!"}}]
[333,{"$f":"(B332*#REF!)+B332","v":{"$error":"#REF!"}}]
[334,{"$f":"(B333*#REF!)+B333","v":{"$error":"#REF!"}}]
[335,{"$f":"(B334*#REF!)+B334","v":{"$error":"#REF!"}}]
[336,{"$f":"(B335*#REF!)+B335","v":{"$error":"#REF!"}}]
[337,{"$f":"(B336*#REF!)+B336","v":{"$error":"#REF!"}}]
[338,{"$f":"(B337*#REF!)+B337","v":{"$error":"#REF!"}}]
[339,{"$f":"(B338*#REF!)+B338","v":{"$error":"#REF!"}}]
[340,{"$f":"(B339*#REF!)+B339","v":{"$error":"#REF!"}}]
[341,{"$f":"(B340*#REF!)+B340","v":{"$error":"#REF!"}}]
[342,{"$f":"(B341*#REF!)+B341","v":{"$error":"#REF!"}}]
[343,{"$f":"(B342*#REF!)+B342","v":{"$error":"#REF!"}}]
[344,{"$f":"(B343*#REF!)+B343","v":{"$error":"#REF!"}}]
[345,{"$f":"(B344*#REF!)+B344","v":{"$error":"#REF!"}}]
[346,{"$f":"(B345*#REF!)+B345","v":{"$error":"#REF!"}}]
[347,{"$f":"(B346*#REF!)+B346","v":{"$error":"#REF!"}}]
[348,{"$f":"(B347*#REF!)+B347","v":{"$error":"#REF!"}}]
[349,{"$f":"(B348*#REF!)+B348","v":{"$error":"#REF!"}}]
[350,{"$f":"(B349*#REF!)+B349","v":{"$error":"#REF!"}}]
[351,{"$f":"(B350*#REF!)+B350","v":{"$error":"#REF!"}}]
[352,{"$f":"(B351*#REF!)+B351","v":{"$error":"#REF!"}}]
[353,{"$f":"(B352*#REF!)+B352","v":{"$error":"#REF!"}}]
[354,{"$f":"(B353*#REF!)+B353","v":{"$error":"#REF!"}}]
[355,{"$f":"(B354*#REF!)+B354","v":{"$error":"#REF!"}}]
[356,{"$f":"(B355*#REF!)+B355","v":{"$error":"#REF!"}}]
[357,{"$f":"(B356*#REF!)+B356","v":{"$error":"#REF!"}}]
[358,{"$f":"(B357*#REF!)+B357","v":{"$error":"#REF!"}}]
[359,{"$f":"(B358*#REF!)+B358","v":{"$error":"#REF!"}}]
[360,{"$f":"(B359*#REF!)+B359","v":{"$error":"#REF!"}}]
[361,{"$f":"(B360*#REF!)+B360","v":{"$error":"#REF!"}}]
[362,{"$f":"(B361*#REF!)+B361","v":{"$error":"#REF!"}}]
[363,{"$f":"(B362*#REF!)+B362","v":{"$error":"#REF!"}}]
[364,{"$f":"(B363*#REF!)+B363","v":{"$error":"#REF!"}}]
[365,{"$f":"(B364*#REF!)+B364","v":{"$error":"#REF!"}}]
[366,{"$f":"(B365*#REF!)+B365","v":{"$error":"#REF!"}}]
[367,{"$f":"(B366*#REF!)+B366","v":{"$error":"#REF!"}}]
[368,{"$f":"(B367*#REF!)+B367","v":{"$error":"#REF!"}}]
[369,{"$f":"(B368*#REF!)+B368","v":{"$error":"#REF!"}}]
[370,{"$f":"(B369*#REF!)+B369","v":{"$error":"#REF!"}}]
[371,{"$f":"(B370*#REF!)+B370","v":{"$error":"#REF!"}}]
[372,{"$f":"(B371*#REF!)+B371","v":{"$error":"#REF!"}}]
[373,{"$f":"(B372*#REF!)+B372","v":{"$error":"#REF!"}}]
[374,{"$f":"(B373*#REF!)+B373","v":{"$error":"#REF!"}}]
[375,{"$f":"(B374*#REF!)+B374","v":{"$error":"#REF!"}}]
[376,{"$f":"(B375*#REF!)+B375","v":{"$error":"#REF!"}}]
[377,{"$f":"(B376*#REF!)+B376","v":{"$error":"#REF!"}}]
[378,{"$f":"(B377*#REF!)+B377","v":{"$error":"#REF!"}}]
[379,{"$f":"(B378*#REF!)+B378","v":{"$error":"#REF!"}}]
[380,{"$f":"(B379*#REF!)+B379","v":{"$error":"#REF!"}}]
[381,{"$f":"(B380*#REF!)+B380","v":{"$error":"#REF!"}}]
[382,{"$f":"(B381*#REF!)+B381","v":{"$error":"#REF!"}}]
[383,{"$f":"(B382*#REF!)+B382","v":{"$error":"#REF!"}}]
[384,{"$f":"(B383*#REF!)+B383","v":{"$error":"#REF!"}}]
[385,{"$f":"(B384*#REF!)+B384","v":{"$error":"#REF!"}}]
[386,{"$f":"(B385*#REF!)+B385","v":{"$error":"#REF!"}}]
[387,{"$f":"(B386*#REF!)+B386","v":{"$error":"#REF!"}}]
[388,{"$f":"(B387*#REF!)+B387","v":{"$error":"#REF!"}}]
[389,{"$f":"(B388*#REF!)+B388","v":{"$error":"#REF!"}}]
[390,{"$f":"(B389*#REF!)+B389","v":{"$error":"#REF!"}}]
[391,{"$f":"(B390*#REF!)+B390","v":{"$error":"#REF!"}}]
[392,{"$f":"(B391*#REF!)+B391","v":{"$error":"#REF!"}}]
[393,{"$f":"(B392*#REF!)+B392","v":{"$error":"#REF!"}}]
[394,{"$f":"(B393*#REF!)+B393","v":{"$error":"#REF!"}}]
[395,{"$f":"(B394*#REF!)+B394","v":{"$error":"#REF!"}}]
[396,{"$f":"(B395*#REF!)+B395","v":{"$error":"#REF!"}}]
[397,{"$f":"(B396*#REF!)+B396","v":{"$error":"#REF!"}}]
[398,{"$f":"(B397*#REF!)+B397","v":{"$error":"#REF!"}}]
[399,{"$f":"(B398*#REF!)+B398","v":{"$error":"#REF!"}}]
[400,{"$f":"(B399*#REF!)+B399","v":{"$error":"#REF!"}}]
[401,{"$f":"(B400*#REF!)+B400","v":{"$error":"#REF!"}}]
[402,{"$f":"(B401*#REF!)+B401","v":{"$error":"#REF!"}}]
[403,{"$f":"(B402*#REF!)+B402","v":{"$error":"#REF!"}}]
[404,{"$f":"(B403*#REF!)+B403","v":{"$error":"#REF!"}}]
[405,{"$f":"(B404*#REF!)+B404","v":{"$error":"#REF!"}}]
[406,{"$f":"(B405*#REF!)+B405","v":{"$error":"#REF!"}}]
[407,{"$f":"(B406*#REF!)+B406","v":{"$error":"#REF!"}}]
[408,{"$f":"(B407*#REF!)+B407","v":{"$error":"#REF!"}}]
[409,{"$f":"(B408*#REF!)+B408","v":{"$error":"#REF!"}}]
[410,{"$f":"(B409*#REF!)+B409","v":{"$error":"#REF!"}}]
[411,{"$f":"(B410*#REF!)+B410","v":{"$error":"#REF!"}}]
[412,{"$f":"(B411*#REF!)+B411","v":{"$error":"#REF!"}}]
[413,{"$f":"(B412*#REF!)+B412","v":{"$error":"#REF!"}}]
[414,{"$f":"(B413*#REF!)+B413","v":{"$error":"#REF!"}}]
[415,{"$f":"(B414*#REF!)+B414","v":{"$error":"#REF!"}}]
[416,{"$f":"(B415*#REF!)+B415","v":{"$error":"#REF!"}}]
[417,{"$f":"(B416*#REF!)+B416","v":{"$error":"#REF!"}}]
[418,{"$f":"(B417*#REF!)+B417","v":{"$error":"#REF!"}}]
[419,{"$f":"(B418*#REF!)+B418","v":{"$error":"#REF!"}}]
[420,{"$f":"(B419*#REF!)+B419","v":{"$error":"#REF!"}}]
[421,{"$f":"(B420*#REF!)+B420","v":{"$error":"#REF!"}}]
[422,{"$f":"(B421*#REF!)+B421","v":{"$error":"#REF!"}}]
[423,{"$f":"(B422*#REF!)+B422","v":{"$error":"#REF!"}}]
[424,{"$f":"(B423*#REF!)+B423","v":{"$error":"#REF!"}}]
[425,{"$f":"(B424*#REF!)+B424","v":{"$error":"#REF!"}}]
[426,{"$f":"(B425*#REF!)+B425","v":{"$error":"#REF!"}}]
[427,{"$f":"(B426*#REF!)+B426","v":{"$error":"#REF!"}}]
[428,{"$f":"(B427*#REF!)+B427","v":{"$error":"#REF!"}}]
[429,{"$f":"(B428*#REF!)+B428","v":{"$error":"#REF!"}}]
[430,{"$f":"(B429*#REF!)+B429","v":{"$error":"#REF!"}}]
[431,{"$f":"(B430*#REF!)+B430","v":{"$error":"#REF!"}}]
[432,{"$f":"(B431*#REF!)+B431","v":{"$error":"#REF!"}}]
[433,{"$f":"(B432*#REF!)+B432","v":{"$error":"#REF!"}}]
[434,{"$f":"(B433*#REF!)+B433","v":{"$error":"#REF!"}}]
[435,{"$f":"(B434*#REF!)+B434","v":{"$error":"#REF!"}}]
[436,{"$f":"(B435*#REF!)+B435","v":{"$error":"#REF!"}}]
[437,{"$f":"(B436*#REF!)+B436","v":{"$error":"#REF!"}}]
[438,{"$f":"(B437*#REF!)+B437","v":{"$error":"#REF!"}}]
[439,{"$f":"(B438*#REF!)+B438","v":{"$error":"#REF!"}}]
[440,{"$f":"(B439*#REF!)+B439","v":{"$error":"#REF!"}}]
[441,{"$f":"(B440*#REF!)+B440","v":{"$error":"#REF!"}}]
[442,{"$f":"(B441*#REF!)+B441","v":{"$error":"#REF!"}}]
[443,{"$f":"(B442*#REF!)+B442","v":{"$error":"#REF!"}}]
[444,{"$f":"(B443*#REF!)+B443","v":{"$error":"#REF!"}}]
[445,{"$f":"(B444*#REF!)+B444","v":{"$error":"#REF!"}}]
[446,{"$f":"(B445*#REF!)+B445","v":{"$error":"#REF!"}}]
[447,{"$f":"(B446*#REF!)+B446","v":{"$error":"#REF!"}}]
[448,{"$f":"(B447*#REF!)+B447","v":{"$error":"#REF!"}}]
[449,{"$f":"(B448*#REF!)+B448","v":{"$error":"#REF!"}}]
[450,{"$f":"(B449*#REF!)+B449","v":{"$error":"#REF!"}}]
[451,{"$f":"(B450*#REF!)+B450","v":{"$error":"#REF!"}}]
[452,{"$f":"(B451*#REF!)+B451","v":{"$error":"#REF!"}}]
[453,{"$f":"(B452*#REF!)+B452","v":{"$error":"#REF!"}}]
[454,{"$f":"(B453*#REF!)+B453","v":{"$error":"#REF!"}}]
[455,{"$f":"(B454*#REF!)+B454","v":{"$error":"#REF!"}}]
[456,{"$f":"(B455*#REF!)+B455","v":{"$error":"#REF!"}}]
[457,{"$f":"(B456*#REF!)+B456","v":{"$error":"#REF!"}}]
[458,{"$f":"(B457*#REF!)+B457","v":{"$error":"#REF!"}}]
[459,{"$f":"(B458*#REF!)+B458","v":{"$error":"#REF!"}}]
[460,{"$f":"(B459*#REF!)+B459","v":{"$error":"#REF!"}}]
[461,{"$f":"(B460*#REF!)+B460","v":{"$error":"#REF!"}}]
[462,{"$f":"(B461*#REF!)+B461","v":{"$error":"#REF!"}}]
[463,{"$f":"(B462*#REF!)+B462","v":{"$error":"#REF!"}}]
[464,{"$f":"(B463*#REF!)+B463","v":{"$error":"#REF!"}}]
[465,{"$f":"(B464*#REF!)+B464","v":{"$error":"#REF!"}}]
[466,{"$f":"(B465*#REF!)+B465","v":{"$error":"#REF!"}}]
[467,{"$f":"(B466*#REF!)+B466","v":{"$error":"#REF!"}}]
[468,{"$f":"(B467*#REF!)+B467","v":{"$error":"#REF!"}}]
[469,{"$f":"(B468*#REF!)+B468","v":{"$error":"#REF!"}}]
[470,{"$f":"(B469*#REF!)+B469","v":{"$error":"#REF!"}}]
[471,{"$f":"(B470*#REF!)+B470","v":{"$error":"#REF!"}}]
[472,{"$f":"(B471*#REF!)+B471","v":{"$error":"#REF!"}}]
[473,{"$f":"(B472*#REF!)+B472","v":{"$error":"#REF!"}}]
[474,{"$f":"(B473*#REF!)+B473","v":{"$error":"#REF!"}}]
[475,{"$f":"(B474*#REF!)+B474","v":{"$error":"#REF!"}}]
[476,{"$f":"(B475*#REF!)+B475","v":{"$error":"#REF!"}}]
[477,{"$f":"(B476*#REF!)+B476","v":{"$error":"#REF!"}}]
[478,{"$f":"(B477*#REF!)+B477","v":{"$error":"#REF!"}}]
[479,{"$f":"(B478*#REF!)+B478","v":{"$error":"#REF!"}}]
[480,{"$f":"(B479*#REF!)+B479","v":{"$error":"#REF!"}}]
[481,{"$f":"(B480*#REF!)+B480","v":{"$error":"#REF!"}}]
[482,{"$f":"(B481*#REF!)+B481","v":{"$error":"#REF!"}}]
[483,{"$f":"(B482*#REF!)+B482","v":{"$error":"#REF!"}}]
[484,{"$f":"(B483*#REF!)+B483","v":{"$error":"#REF!"}}]
[485,{"$f":"(B484*#REF!)+B484","v":{"$error":"#REF!"}}]
[486,{"$f":"(B485*#REF!)+B485","v":{"$error":"#REF!"}}]
[487,{"$f":"(B486*#REF!)+B486","v":{"$error":"#REF!"}}]
[488,{"$f":"(B487*#REF!)+B487","v":{"$error":"#REF!"}}]
[489,{"$f":"(B488*#REF!)+B488","v":{"$error":"#REF!"}}]
[490,{"$f":"(B489*#REF!)+B489","v":{"$error":"#REF!"}}]
[491,{"$f":"(B490*#REF!)+B490","v":{"$error":"#REF!"}}]
[492,{"$f":"(B491*#REF!)+B491","v":{"$error":"#REF!"}}]
[493,{"$f":"(B492*#REF!)+B492","v":{"$error":"#REF!"}}]
[494,{"$f":"(B493*#REF!)+B493","v":{"$error":"#REF!"}}]
[495,{"$f":"(B494*#REF!)+B494","v":{"$error":"#REF!"}}]
[496,{"$f":"(B495*#REF!)+B495","v":{"$error":"#REF!"}}]
[497,{"$f":"(B496*#REF!)+B496","v":{"$error":"#REF!"}}]
[498,{"$f":"(B497*#REF!)+B497","v":{"$error":"#REF!"}}]
[499,{"$f":"(B498*#REF!)+B498","v":{"$error":"#REF!"}}]
[500,{"$f":"(B499*#REF!)+B499","v":{"$error":"#REF!"}}]
[501,{"$f":"(B500*#REF!)+B500","v":{"$error":"#REF!"}}]
[502,{"$f":"(B501*#REF!)+B501","v":{"$error":"#REF!"}}]
[503,{"$f":"(B502*#REF!)+B502","v":{"$error":"#REF!"}}]
[504,{"$f":"(B503*#REF!)+B503","v":{"$error":"#REF!"}}]
[505,{"$f":"(B504*#REF!)+B504","v":{"$error":"#REF!"}}]
[506,{"$f":"(B505*#REF!)+B505","v":{"$error":"#REF!"}}]
[507,{"$f":"(B506*#REF!)+B506","v":{"$error":"#REF!"}}]
[508,{"$f":"(B507*#REF!)+B507","v":{"$error":"#REF!"}}]
[509,{"$f":"(B508*#REF!)+B508","v":{"$error":"#REF!"}}]
[510,{"$f":"(B509*#REF!)+B509","v":{"$error":"#REF!"}}]
[511,{"$f":"(B510*#REF!)+B510","v":{"$error":"#REF!"}}]
[512,{"$f":"(B511*#REF!)+B511","v":{"$error":"#REF!"}}]
[513,{"$f":"(B512*#REF!)+B512","v":{"$error":"#REF!"}}]
[514,{"$f":"(B513*#REF!)+B513","v":{"$error":"#REF!"}}]
[515,{"$f":"(B514*#REF!)+B514","v":{"$error":"#REF!"}}]
[516,{"$f":"(B515*#REF!)+B515","v":{"$error":"#REF!"}}]
[517,{"$f":"(B516*#REF!)+B516","v":{"$error":"#REF!"}}]
[518,{"$f":"(B517*#REF!)+B517","v":{"$error":"#REF!"}}]
[519,{"$f":"(B518*#REF!)+B518","v":{"$error":"#REF!"}}]
[520,{"$f":"(B519*#REF!)+B519","v":{"$error":"#REF!"}}]
[521,{"$f":"(B520*#REF!)+B520","v":{"$error":"#REF!"}}]
[522,{"$f":"(B521*#REF!)+B521","v":{"$error":"#REF!"}}]
[523,{"$f":"(B522*#REF!)+B522","v":{"$error":"#REF!"}}]
[524,{"$f":"(B523*#REF!)+B523","v":{"$error":"#REF!"}}]
[525,{"$f":"(B524*#REF!)+B524","v":{"$error":"#REF!"}}]
[526,{"$f":"(B525*#REF!)+B525","v":{"$error":"#REF!"}}]
[527,{"$f":"(B526*#REF!)+B526","v":{"$error":"#REF!"}}]
[528,{"$f":"(B527*#REF!)+B527","v":{"$error":"#REF!"}}]
[529,{"$f":"(B528*#REF!)+B528","v":{"$error":"#REF!"}}]
[530,{"$f":"(B529*#REF!)+B529","v":{"$error":"#REF!"}}]
[531,{"$f":"(B530*#REF!)+B530","v":{"$error":"#REF!"}}]
[532,{"$f":"(B531*#REF!)+B531","v":{"$error":"#REF!"}}]
[533,{"$f":"(B532*#REF!)+B532","v":{"$error":"#REF!"}}]
[534,{"$f":"(B533*#REF!)+B533","v":{"$error":"#REF!"}}]
[535,{"$f":"(B534*#REF!)+B534","v":{"$error":"#REF!"}}]
[536,{"$f":"(B535*#REF!)+B535","v":{"$error":"#REF!"}}]
[537,{"$f":"(B536*#REF!)+B536","v":{"$error":"#REF!"}}]
[538,{"$f":"(B537*#REF!)+B537","v":{"$error":"#REF!"}}]
[539,{"$f":"(B538*#REF!)+B538","v":{"$error":"#REF!"}}]
[540,{"$f":"(B539*#REF!)+B539","v":{"$error":"#REF!"}}]
[541,{"$f":"(B540*#REF!)+B540","v":{"$error":"#REF!"}}]
[542,{"$f":"(B541*#REF!)+B541","v":{"$error":"#REF!"}}]
[543,{"$f":"(B542*#REF!)+B542","v":{"$error":"#REF!"}}]
[544,{"$f":"(B543*#REF!)+B543","v":{"$error":"#REF!"}}]